BEGIN:VCALENDAR
PRODID:-//Tendenci - The Open Source AMS for Associations//Tendenci Codebase 12 MIMEDIR//EN
VERSION:2.0
METHOD:PUBLISH
BEGIN:VEVENT
DTSTAMP:20260423T133107Z
ORGANIZER:Austin Gessel
DTSTART:20260130T080000Z
DTEND:20260130T130000Z
LOCATION:West Virginia Culture Center
TRANSP:OPAQUE
SEQUENCE:0
UID:uid3279@portal.momsforliberty.org
DESCRIPTION:--- This iCal file does *NOT* confirm registration.\r\nEvent details subject to change. ---\r\nhttps://portal.momsforliberty.org/events/3279/\r\n\r\nEvent Title: AFP-Legislative Day at the Capitol\r\nStart Date / Time: Jan 30, 2026 08:00 AM UTC\r\nLocation: West Virginia Culture Center\r\nSpeaker: Governer Morrisey\r\nGoogle\r\nhttp://maps.google.com/maps?q=West+Virginia+Capitol+Building,1900+Kanawha+Blvd+E+Building+9,Charleston,WV,25305\r\n\r\nForecast\nhttp://www.weather.com/weather/monthly/25305\r\n\r\nRegister athttps://americansforprosperity.actcentr.com/.../afp-wv...\r\n \r\nJanuary 30, 20268:00 AM - 1:00 PM EST\r\n \r\nWest Virginia Culture CenterWest Virginia Capitol Building,1900 Kanawha Blvd E Building 9,\r\nCharleston, WV 25305\r\n \r\nAre YOU ready to make a difference in your community, your state, and your nation for the cause of freedom, liberty, and prosperity?\r\n \r\nJoin Americans for Prosperity West Virginia for our capitol lobby day where you will meet with Lawmakers, see first-hand the legislative process, and advocate to expand freedom and opportunity in the Mountain State.\r\nBreakfast and a reception will be held in the Great Hall at the West Virginia Culture Center prior to walking over to the Capitol for a day meeting with Lawmakers.\r\n \r\nMoms for Liberty Kanawha County, WV will be there speaking with our legislators. Come join us!\r\n --- This iCal file does *NOT* confirm registration.Event details subject to change. ---\r\n\r\n--- By Tendenci - The Open Source AMS for Associations ---\r\n
X-ALT-DESC;FMTTYPE=text/html:<div>--- This iCal file does *NOT* confirm registration.Event details subject to change. ---</div><h1>Event Title: AFP-Legislative Day at the Capitol</h1><div>https://portal.momsforliberty.org/events/3279/</div><br /><div>When: Jan 30, 2026 08:00 AM UTC</div><div>Speaker: Governer Morrisey</div><br />West Virginia Culture Center<br />West Virginia Capitol Building,1900 Kanawha Blvd E Building 9<br />Charleston, WV 25305<br /><div>http://maps.google.com/maps?q=West+Virginia+Capitol+Building,1900+Kanawha+Blvd+E+Building+9,Charleston,WV,25305</div><br /><div>Forecast: http://www.weather.com/weather/monthly/25305</div><br /><br /><div><div class="xdj266r x14z9mp xat24cr x1lziwak x1vvkbs">Register at<br class="html-br" /><a class="x1i10hfl xjbqb8w x1ejq31n x18oe1m7 x1sy0etr xstzfhl x972fbf x10w94by x1qhh985 x14e42zd x9f619 x1ypdohk xt0psk2 x3ct3a4 xdj266r x14z9mp xat24cr x1lziwak xexx8yu xyri2b x18d9i69 x1c1uobl x16tdsg8 x1hl2dhg xggy1nq x1a2a7pz xkrqix3 x1sur9pj x1fey0fg x1s688f" tabindex="0" role="link" href="https://americansforprosperity.actcentr.com/Events/afp-wv-legislative-day-at-the-capitol?fbclid=IwZXh0bgNhZW0CMTAAYnJpZBExUGpSQk5qVWk2WVpNcjJlQXNydGMGYXBwX2lkEDIyMjAzOTE3ODgyMDA4OTIAAR4lxpSC4WQncd2CbohQB6bWZa9n-EGh4UkF9ecqxTWk9j6yewDTdJJp1zHvqg_aem_2qLVY69Oq-AjJWwnD0jV-A" target="_blank" rel="nofollow noopener">https://americansforprosperity.actcentr.com/.../afp-wv...</a></div>
<div class="x14z9mp xat24cr x1lziwak x1vvkbs xtlvy1s">&nbsp\;</div>
<div class="x14z9mp xat24cr x1lziwak x1vvkbs xtlvy1s">January 30, 2026<br class="html-br" />8:00 AM - 1:00 PM EST</div>
<div class="x14z9mp xat24cr x1lziwak x1vvkbs xtlvy1s">&nbsp\;</div>
<div class="x14z9mp xat24cr x1lziwak x1vvkbs xtlvy1s">West Virginia Culture Center<br class="html-br" />West Virginia Capitol Building,1900 Kanawha Blvd E Building 9,</div>
<div class="x14z9mp xat24cr x1lziwak x1vvkbs xtlvy1s">Charleston, WV 25305</div>
<div class="x14z9mp xat24cr x1lziwak x1vvkbs xtlvy1s">&nbsp\;</div>
<div class="x14z9mp xat24cr x1lziwak x1vvkbs xtlvy1s">Are YOU ready to make a difference in your community, your state, and your nation for the cause of freedom, liberty, and prosperity?</div>
<div class="x14z9mp xat24cr x1lziwak x1vvkbs xtlvy1s">&nbsp\;</div>
<div class="x14z9mp xat24cr x1lziwak x1vvkbs xtlvy1s">Join Americans for Prosperity West Virginia for our capitol lobby day where you will meet with Lawmakers, see first-hand the legislative process, and advocate to expand freedom and opportunity in the Mountain State.</div>
<div class="x14z9mp xat24cr x1lziwak x1vvkbs xtlvy1s">Breakfast and a reception will be held in the Great Hall at the West Virginia Culture Center prior to walking over to the Capitol for a day meeting with Lawmakers.</div>
<div class="x14z9mp xat24cr x1lziwak x1vvkbs xtlvy1s">&nbsp\;</div>
<div class="x14z9mp xat24cr x1lziwak x1vvkbs xtlvy1s">Moms for Liberty Kanawha County, WV will be there speaking with our legislators. Come join us!</div>
<div class="x14z9mp xat24cr x1lziwak x1vvkbs xtlvy1s">&nbsp\;</div></div><div>--- This iCal file does *NOT* confirm registration.Event details subject to change. ---</div><div>--- Tendenci&reg\; Software by <a href="https://www.tendenci.com">tendenci.com</a> - The Open Source AMS for Associations ---</div>
SUMMARY:AFP-Legislative Day at the Capitol
PRIORITY:5
CLASS:PUBLIC
BEGIN:VALARM
TRIGGER:-PT30M
ACTION:DISPLAY
DESCRIPTION:Reminder
END:VALARM
END:VEVENT
END:VCALENDAR
