BEGIN:VCALENDAR
PRODID:-//Tendenci - The Open Source AMS for Associations//Tendenci Codebase 12 MIMEDIR//EN
VERSION:2.0
METHOD:PUBLISH
BEGIN:VEVENT
DTSTAMP:20260419T173650Z
ORGANIZER:Palm Beach County Chapter
DTSTART:20260320T170000Z
DTEND:20260320T183000Z
LOCATION:Curious Innovators of America
TRANSP:OPAQUE
SEQUENCE:0
UID:uid3307@portal.momsforliberty.org
DESCRIPTION:--- This iCal file does *NOT* confirm registration.\r\nEvent details subject to change. ---\r\nhttps://portal.momsforliberty.org/events/3307/\r\n\r\nEvent Title: Guest Speaker -Erika Donalds\r\nStart Date / Time: Mar 20, 2026 13:00 PM America/New_York\r\nLocation: Curious Innovators of America\r\nSpeaker: Erika Donalds\r\nGoogle\r\nhttp://maps.google.com/maps?q=4239+Northlake+Blvd.,Palm Beach Gardens,FL,33410\r\n\r\nForecast\nhttp://www.weather.com/weather/monthly/33410\r\n\r\n🚨 Education Funding Is Changing. Are You Ready?\r\n \r\nMost families don&rsquo\;t realize what&rsquo\;s coming.\r\n \r\nMost providers aren&rsquo\;t positioned yet.\r\n \r\nThis isn&rsquo\;t another speech.\r\n \r\nThis is a private briefing with Erica Donalds on what the Education Freedom Tax Credit really means for families, microschools, and personalized education providers.\r\n \r\nIf you care about:\r\n✔ Understanding how scholarship &ldquo\;stacking&rdquo\; actually works\r\n✔ Whether your child qualifies under the 300% AMI threshold\r\n✔ Closing tuition gaps with federal + state funding\r\n✔ Staying ahead of policy changes before they hit\r\n \r\n&hellip\;then you need to be in the room!\r\n \r\nThis is insider clarity.\r\nThis is strategic preparation.\r\nThis is unfiltered access.\r\n \r\n🎟 Limited seating.\r\n🎙 Live Q&amp\;A.\r\n🔐 Closed-door conversation.\r\n \r\nSecure your seat now.\r\n \r\nhttps://www.zeffy.com/en-US/ticketing/guest-speaker-erika-donalds\r\n \r\n#EducationFreedom #ScholarshipStacking #Microschools #EducationPolicy #SchoolChoice--- This iCal file does *NOT* confirm registration.Event details subject to change. ---\r\n\r\n--- By Tendenci - The Open Source AMS for Associations ---\r\n
X-ALT-DESC;FMTTYPE=text/html:<div>--- This iCal file does *NOT* confirm registration.Event details subject to change. ---</div><h1>Event Title: Guest Speaker -Erika Donalds</h1><div>https://portal.momsforliberty.org/events/3307/</div><br /><div>When: Mar 20, 2026 13:00 PM America/New_York</div><div>Speaker: Erika Donalds</div><br />Curious Innovators of America<br />4239 Northlake Blvd.<br />Palm Beach Gardens, FL 33410<br /><div>http://maps.google.com/maps?q=4239+Northlake+Blvd.,Palm Beach Gardens,FL,33410</div><br /><div>Forecast: http://www.weather.com/weather/monthly/33410</div><br /><br /><div><p>🚨 Education Funding Is Changing. Are You Ready?</p>
<p>&nbsp\;</p>
<p>Most families don&rsquo\;t realize what&rsquo\;s coming.</p>
<p>&nbsp\;</p>
<p>Most providers aren&rsquo\;t positioned yet.</p>
<p>&nbsp\;</p>
<p>This isn&rsquo\;t another speech.</p>
<p>&nbsp\;</p>
<p>This is a private briefing with Erica Donalds on what the Education Freedom Tax Credit really means for families, microschools, and personalized education providers.</p>
<p>&nbsp\;</p>
<p>If you care about:</p>
<p>✔ Understanding how scholarship &ldquo\;stacking&rdquo\; actually works</p>
<p>✔ Whether your child qualifies under the 300% AMI threshold</p>
<p>✔ Closing tuition gaps with federal + state funding</p>
<p>✔ Staying ahead of policy changes before they hit</p>
<p>&nbsp\;</p>
<p>&hellip\;then you need to be in the room!</p>
<p>&nbsp\;</p>
<p>This is insider clarity.</p>
<p>This is strategic preparation.</p>
<p>This is unfiltered access.</p>
<p>&nbsp\;</p>
<p>🎟 Limited seating.</p>
<p>🎙 Live Q&amp\;A.</p>
<p>🔐 Closed-door conversation.</p>
<p>&nbsp\;</p>
<p>Secure your seat now.</p>
<p>&nbsp\;</p>
<p>https://www.zeffy.com/en-US/ticketing/guest-speaker-erika-donalds</p>
<p>&nbsp\;</p>
<p>#EducationFreedom #ScholarshipStacking #Microschools #EducationPolicy #SchoolChoice</p></div><div>--- This iCal file does *NOT* confirm registration.Event details subject to change. ---</div><div>--- Tendenci&reg\; Software by <a href="https://www.tendenci.com">tendenci.com</a> - The Open Source AMS for Associations ---</div>
SUMMARY:Guest Speaker -Erika Donalds
PRIORITY:5
CLASS:PUBLIC
BEGIN:VALARM
TRIGGER:-PT30M
ACTION:DISPLAY
DESCRIPTION:Reminder
END:VALARM
END:VEVENT
END:VCALENDAR
