BEGIN:VCALENDAR
PRODID:-//Tendenci - The Open Source AMS for Associations//Tendenci Codebase 12 MIMEDIR//EN
VERSION:2.0
METHOD:PUBLISH
BEGIN:VEVENT
DTSTAMP:20260420T092315Z
ORGANIZER:
DTSTART:20260417T220000Z
DTEND:20260418T020000Z
LOCATION:Portuguese Holy Ghost Society
TRANSP:OPAQUE
SEQUENCE:0
UID:uid3319@portal.momsforliberty.org
DESCRIPTION:--- This iCal file does *NOT* confirm registration.\r\nEvent details subject to change. ---\r\nhttps://portal.momsforliberty.org/events/3319/\r\n\r\nEvent Title: Elaine Pelino and Friends SOS rally, Save Our State!\r\nStart Date / Time: Apr 17, 2026 18:00 PM US/Eastern\r\nLocation: Portuguese Holy Ghost Society\r\nGoogle\r\nhttp://maps.google.com/maps?q=11+Ventura+St,West Warwick,RI,02893\r\n\r\nForecast\nhttp://www.weather.com/weather/monthly/02893\r\n\r\nA Fundraising rally for Elaine Pelino for Governor! Special guest speakers Amy Rodrigues, Nick Grasso, and Elaine Pelino, among others, will speak about how we can bring Rhode Island to a prosperous, safe, and common-sense state for our families, our neighbors, and ourselves! We deserve and have the right to our full constitutional rights and freedoms! Tickets are $10.--- This iCal file does *NOT* confirm registration.Event details subject to change. ---\r\n\r\n--- By Tendenci - The Open Source AMS for Associations ---\r\n
X-ALT-DESC;FMTTYPE=text/html:<div>--- This iCal file does *NOT* confirm registration.Event details subject to change. ---</div><h1>Event Title: Elaine Pelino and Friends SOS rally, Save Our State!</h1><div>https://portal.momsforliberty.org/events/3319/</div><br /><div>When: Apr 17, 2026 18:00 PM US/Eastern</div><br />Portuguese Holy Ghost Society<br />11 Ventura St<br />West Warwick, RI 02893<br /><div>http://maps.google.com/maps?q=11+Ventura+St,West Warwick,RI,02893</div><br /><div>Forecast: http://www.weather.com/weather/monthly/02893</div><br /><br /><div><p>A Fundraising rally for Elaine Pelino for Governor! Special guest speakers Amy Rodrigues, Nick Grasso, and Elaine Pelino, among others, will speak about how we can bring Rhode Island to a prosperous, safe, and common-sense state for our families, our neighbors, and ourselves! We deserve and have the right to our full constitutional rights and freedoms! Tickets are $10.</p></div><div>--- This iCal file does *NOT* confirm registration.Event details subject to change. ---</div><div>--- Tendenci&reg\; Software by <a href="https://www.tendenci.com">tendenci.com</a> - The Open Source AMS for Associations ---</div>
SUMMARY:Elaine Pelino and Friends SOS rally, Save Our State!
PRIORITY:5
CLASS:PUBLIC
BEGIN:VALARM
TRIGGER:-PT30M
ACTION:DISPLAY
DESCRIPTION:Reminder
END:VALARM
END:VEVENT
END:VCALENDAR
