BEGIN:VCALENDAR
PRODID:-//Tendenci - The Open Source AMS for Associations//Tendenci Codebase 12 MIMEDIR//EN
VERSION:2.0
METHOD:PUBLISH
BEGIN:VEVENT
DTSTAMP:20260421T024602Z
ORGANIZER:
DTSTART:20260407T233000Z
DTEND:20260408T000000Z
LOCATION:
TRANSP:OPAQUE
SEQUENCE:0
UID:uid3320@portal.momsforliberty.org
DESCRIPTION:--- This iCal file does *NOT* confirm registration.\r\nEvent details subject to change. ---\r\nhttps://portal.momsforliberty.org/events/3320/\r\n\r\nEvent Title: April Chapter Meeting\r\nStart Date / Time: Apr 07, 2026 19:30 PM US/Eastern\r\nLocation: \r\nAll members' chapter meeting to discuss agenda items and upcoming events. Log in to your Zoom account to join. Your screen name must be your name to be allowed in. Zoom link will be emailed to verified members upon registration.--- This iCal file does *NOT* confirm registration.Event details subject to change. ---\r\n\r\n--- By Tendenci - The Open Source AMS for Associations ---\r\n
X-ALT-DESC;FMTTYPE=text/html:<div>--- This iCal file does *NOT* confirm registration.Event details subject to change. ---</div><h1>Event Title: April Chapter Meeting</h1><div>https://portal.momsforliberty.org/events/3320/</div><br /><div>When: Apr 07, 2026 19:30 PM US/Eastern</div><br /><div><p>All members' chapter meeting to discuss agenda items and upcoming events. Log in to your Zoom account to join. Your screen name must be your name to be allowed in. Zoom link will be emailed to verified members upon registration.</p></div><div>--- This iCal file does *NOT* confirm registration.Event details subject to change. ---</div><div>--- Tendenci&reg\; Software by <a href="https://www.tendenci.com">tendenci.com</a> - The Open Source AMS for Associations ---</div>
SUMMARY:April Chapter Meeting
PRIORITY:5
CLASS:PUBLIC
BEGIN:VALARM
TRIGGER:-PT30M
ACTION:DISPLAY
DESCRIPTION:Reminder
END:VALARM
END:VEVENT
END:VCALENDAR
