BEGIN:VCALENDAR
PRODID:-//Tendenci - The Open Source AMS for Associations//Tendenci Codebase 12 MIMEDIR//EN
VERSION:2.0
METHOD:PUBLISH
BEGIN:VEVENT
DTSTAMP:20260421T141459Z
ORGANIZER:
DTSTART:20260415T013000Z
DTEND:20260415T030000Z
LOCATION:The Landing in Renton
TRANSP:OPAQUE
SEQUENCE:0
UID:uid3321@portal.momsforliberty.org
DESCRIPTION:--- This iCal file does *NOT* confirm registration.\r\nEvent details subject to change. ---\r\nhttps://portal.momsforliberty.org/events/3321/\r\n\r\nEvent Title: Chapter Meeting/Social\r\nStart Date / Time: Apr 14, 2026 18:30 PM US/Pacific\r\nLocation: The Landing in Renton\r\nWe recognize that meeting in Kenmore is difficult for those of you in the South - so we are going to start having quarterly social events in other locations. \r\nJoin us at 6:30 for an informal meeting/social gathering. Find out what Moms for Liberty - King County is all about!  Meet board members, tell us about your concerns and learn how you can impact education in King County. \r\nWe will be meeting at restaurant in Redmond. For location, please RSVP to moms4liberty.wa.king@gmail.com.--- This iCal file does *NOT* confirm registration.Event details subject to change. ---\r\n\r\n--- By Tendenci - The Open Source AMS for Associations ---\r\n
X-ALT-DESC;FMTTYPE=text/html:<div>--- This iCal file does *NOT* confirm registration.Event details subject to change. ---</div><h1>Event Title: Chapter Meeting/Social</h1><div>https://portal.momsforliberty.org/events/3321/</div><br /><div>When: Apr 14, 2026 18:30 PM US/Pacific</div><br /><div><p>We recognize that meeting in Kenmore is difficult for those of you in the South - so we are going to start having quarterly social events in other locations.&nbsp\;</p>
<p>Join us at 6:30 for an informal meeting/social gathering. Find out what Moms for Liberty - King County is all about! &nbsp\;Meet board members, tell us about your concerns and learn how you can impact education in King County.&nbsp\;</p>
<p>We will be meeting at restaurant in Redmond. For location, please RSVP to moms4liberty.wa.king@gmail.com.</p></div><div>--- This iCal file does *NOT* confirm registration.Event details subject to change. ---</div><div>--- Tendenci&reg\; Software by <a href="https://www.tendenci.com">tendenci.com</a> - The Open Source AMS for Associations ---</div>
SUMMARY:Chapter Meeting/Social
PRIORITY:5
CLASS:PUBLIC
BEGIN:VALARM
TRIGGER:-PT30M
ACTION:DISPLAY
DESCRIPTION:Reminder
END:VALARM
END:VEVENT
END:VCALENDAR
