BEGIN:VCALENDAR
PRODID:-//Tendenci - The Open Source AMS for Associations//Tendenci Codebase 12 MIMEDIR//EN
VERSION:2.0
METHOD:PUBLISH
BEGIN:VEVENT
DTSTAMP:20260422T154844Z
ORGANIZER:Family Policy Institute of Washington
DTSTART:20260419T010000Z
DTEND:20260419T040000Z
LOCATION:
TRANSP:OPAQUE
SEQUENCE:0
UID:uid3322@portal.momsforliberty.org
DESCRIPTION:--- This iCal file does *NOT* confirm registration.\r\nEvent details subject to change. ---\r\nhttps://portal.momsforliberty.org/events/3322/\r\n\r\nEvent Title: Saving the American Family: One Night to Change Our Future\r\nStart Date / Time: Apr 18, 2026 18:00 PM US/Pacific\r\nLocation: \r\n \r\n\r\n\r\n\r\n\r\n\r\nPlease attend this outstanding event put on by our strategic partner: Family Policy Institute of Washington\r\n\r\n\r\n\r\n\r\n\r\n\r\n\r\n\r\n\r\nSaving the American Family: One Night to Change Our Future\r\nWhile politicians argue and bureaucrats experiment with culture, this event brings together the people who actually shape the future&mdash\;moms, dads, church leaders, and citizens who are ready to stand in the gap for their children and their communities.\r\nHeadlining the evening is Dr. Kevin Roberts, President of The Heritage Foundation and Heritage Action, one of the most influential voices in America on rebuilding marriage, restoring family, and charting a hopeful path for our nation&rsquo\;s next 250 years.\r\nYou&rsquo\;ll also hear from trusted local voices who are on the front lines every day&mdash\;on the airwaves, in the legislature, and in the public square&mdash\;unpacking the real threats facing parents and kids in Washington and how we can respond with courage, clarity, and conviction. From school policies and parental rights to religious liberty and the rising tide of anti-family ideology, this evening will connect the dots between what you&rsquo\;re seeing in your neighborhood and what&rsquo\;s happening in Olympia and D.C.\r\nIf you are tired of watching your values mocked, your children targeted, and your voice ignored, this night is for you. Come be part of a room full of people who are done being silent, done being isolated, and ready to build something stronger than the chaos around us: families rooted in truth, churches unafraid to speak, and communities where biblical values can flourish again.\r\nSeats at Meydenbauer Center are limited, and this event will sell out.\r\nBuy your ticket or table today: Saving the American Family &ndash\; April 18, 2026, 6&ndash\;9 pm, Meydenbauer Center, Bellevue.\r\n\r\n\r\n\r\n\r\n\r\n\r\n\r\n \r\n\r\n\r\nBuy Individual Ticket\r\n\r\n\r\n\r\n \r\n\r\n--- This iCal file does *NOT* confirm registration.Event details subject to change. ---\r\n\r\n--- By Tendenci - The Open Source AMS for Associations ---\r\n
X-ALT-DESC;FMTTYPE=text/html:<div>--- This iCal file does *NOT* confirm registration.Event details subject to change. ---</div><h1>Event Title: Saving the American Family: One Night to Change Our Future</h1><div>https://portal.momsforliberty.org/events/3322/</div><br /><div>When: Apr 18, 2026 18:00 PM US/Pacific</div><br /><div><p>&nbsp\;</p>
<div class="elementor-element elementor-element-4b46dd8 e-flex e-con-boxed e-con e-parent e-lazyloaded" data-id="4b46dd8" data-element_type="container" data-e-type="container">
<div class="e-con-inner">
<div class="elementor-element elementor-element-b46b499 e-con-full e-flex e-con e-child" data-id="b46b499" data-element_type="container" data-e-type="container">
<div class="elementor-element elementor-element-8f737ca elementor-widget elementor-widget-heading" data-id="8f737ca" data-element_type="widget" data-e-type="widget" data-widget_type="heading.default">
<div class="elementor-widget-container">
<h2 class="elementor-heading-title elementor-size-default">Please attend this outstanding event put on by our strategic partner: Family Policy Institute of Washington</h2>
</div>
</div>
</div>
</div>
</div>
<div class="elementor-element elementor-element-f2d9eb6 e-flex e-con-boxed e-con e-parent e-lazyloaded" data-id="f2d9eb6" data-element_type="container" data-e-type="container">
<div class="e-con-inner">
<div class="elementor-element elementor-element-da3fbd0 elementor-widget elementor-widget-text-editor" data-id="da3fbd0" data-element_type="widget" data-e-type="widget" data-widget_type="text-editor.default">
<div class="elementor-widget-container">
<p><strong>Saving the American Family: One Night to Change Our Future</strong></p>
<p>While politicians argue and bureaucrats experiment with culture, this event brings together the people who actually shape the future&mdash\;moms, dads, church leaders, and <strong>citizens who are ready to stand in the gap for their children and their communities.</strong></p>
<p>Headlining the evening is Dr. Kevin Roberts, President of The Heritage Foundation and Heritage Action, one of the most influential voices in America on rebuilding marriage, restoring family, and charting a hopeful path for our nation&rsquo\;s next 250 years.</p>
<p>You&rsquo\;ll also hear from trusted local voices who are on the front lines every day&mdash\;on the airwaves, in the legislature, and in the public square&mdash\;unpacking the real threats facing parents and kids in Washington and how we can respond with courage, clarity, and conviction. From school policies and parental rights to religious liberty and the rising tide of anti-family ideology, this evening will connect the dots between what you&rsquo\;re seeing in your neighborhood and what&rsquo\;s happening in Olympia and D.C.</p>
<p><strong>If you are tired of watching your values mocked, your children targeted, and your voice ignored, this night is for you. Come be part of a room full of people who are done being silent, done being isolated, and ready to build something stronger than the chaos around us: families rooted in truth, churches unafraid to speak, and communities where biblical values can flourish again.</strong></p>
<p><strong>Seats at Meydenbauer Center are limited,</strong> and this event will sell out.</p>
<p>Buy your ticket or table today: Saving the American Family &ndash\; April 18, 2026, 6&ndash\;9 pm, Meydenbauer Center, Bellevue.</p>
</div>
</div>
</div>
</div>
<div class="elementor-element elementor-element-9347c31 e-flex e-con-boxed e-con e-parent e-lazyloaded" data-id="9347c31" data-element_type="container" data-e-type="container">
<div class="e-con-inner">
<div class="elementor-element elementor-element-8e88d82 e-con-full e-flex e-con e-child" data-id="8e88d82" data-element_type="container" data-e-type="container">
<div class="elementor-element elementor-element-7a25678 elementor-widget elementor-widget-spacer" data-id="7a25678" data-element_type="widget" data-e-type="widget" data-widget_type="spacer.default">&nbsp\;</div>
<div class="elementor-element elementor-element-8412029 elementor-align-justify elementor-widget elementor-widget-button" data-id="8412029" data-element_type="widget" data-e-type="widget" data-widget_type="button.default">
<div class="elementor-widget-container">
<div class="elementor-button-wrapper"><a class="elementor-button elementor-button-link elementor-size-sm" href="https://fpiw.bndlr.co/event/saving-the-american-family-4/register" target="_blank" rel="noopener noreferrer nofollow"><span class="elementor-button-content-wrapper"><span class="elementor-button-text">Buy Individual Ticket</span></span></a></div>
</div>
</div>
</div>
<div class="elementor-element elementor-element-c2c16bb e-con-full e-flex e-con e-child" data-id="c2c16bb" data-element_type="container" data-e-type="container">&nbsp\;</div>
</div>
</div></div><div>--- This iCal file does *NOT* confirm registration.Event details subject to change. ---</div><div>--- Tendenci&reg\; Software by <a href="https://www.tendenci.com">tendenci.com</a> - The Open Source AMS for Associations ---</div>
SUMMARY:Saving the American Family: One Night to Change Our Future
PRIORITY:5
CLASS:PUBLIC
BEGIN:VALARM
TRIGGER:-PT30M
ACTION:DISPLAY
DESCRIPTION:Reminder
END:VALARM
END:VEVENT
END:VCALENDAR
