BEGIN:VCALENDAR
PRODID:-//Tendenci - The Open Source AMS for Associations//Tendenci Codebase 12 MIMEDIR//EN
VERSION:2.0
METHOD:PUBLISH
BEGIN:VEVENT
DTSTAMP:20260423T084500Z
ORGANIZER:
DTSTART:20260429T230000Z
DTEND:20260430T010000Z
LOCATION:Mexican Restaurant
TRANSP:OPAQUE
SEQUENCE:0
UID:uid3325@portal.momsforliberty.org
DESCRIPTION:--- This iCal file does *NOT* confirm registration.\r\nEvent details subject to change. ---\r\nhttps://portal.momsforliberty.org/events/3325/\r\n\r\nEvent Title: Moms for Liberty Harris County April Chapter Meeting\r\nStart Date / Time: Apr 29, 2026 18:00 PM US/Central\r\nLocation: Mexican Restaurant\r\nSpeaker: Vanessa Sivadge\r\nJoin us on April 29 at 6pm to hear from Texas Children's Gender Clinic whistleblower Vanessa Sivadge, President of "Protecting Texas Children" and former Texas Children's RN.  Vanessa will share her courageous story of standing up for what is right in spite of intense pressure, and how parents can best protect their authority within the institutions of healthcare and education.  \r\nYou will not want to miss this informative event!  All are welcome, but space is limited.  Register today to secure your spot. Register Here For The April Chapter Meeting--- This iCal file does *NOT* confirm registration.Event details subject to change. ---\r\n\r\n--- By Tendenci - The Open Source AMS for Associations ---\r\n
X-ALT-DESC;FMTTYPE=text/html:<div>--- This iCal file does *NOT* confirm registration.Event details subject to change. ---</div><h1>Event Title: Moms for Liberty Harris County April Chapter Meeting</h1><div>https://portal.momsforliberty.org/events/3325/</div><br /><div>When: Apr 29, 2026 18:00 PM US/Central</div><div>Speaker: Vanessa Sivadge</div><br /><div><p><em>Join us on April 29 at 6pm to hear from Texas Children's Gender Clinic whistleblower Vanessa Sivadge, President of "Protecting Texas Children" and former Texas Children's RN.&nbsp\; Vanessa will share her courageous story of standing up for what is right in spite of intense pressure, and how parents can best protect their authority within the institutions of healthcare and education.&nbsp\;&nbsp\;</em></p>
<p><em>You will not want to miss this informative event!&nbsp\; All are welcome, but space is limited.&nbsp\; Register today to secure your spot.&nbsp\;<a class="btn btn-primary" title="Register Here For The April Chapter Meeting" href="https://docs.google.com/forms/d/e/1FAIpQLSezhWW5QHDxZXN73tR7bfy6RLh9alNNhxLlx9bRUapsWETydw/viewform?usp=sharing&amp\;ouid=109763711892303782915" target="_blank" rel="noopener">Register Here For The April Chapter Meeting</a></em></p></div><div>--- This iCal file does *NOT* confirm registration.Event details subject to change. ---</div><div>--- Tendenci&reg\; Software by <a href="https://www.tendenci.com">tendenci.com</a> - The Open Source AMS for Associations ---</div>
SUMMARY:Moms for Liberty Harris County April Chapter Meeting
PRIORITY:5
CLASS:PUBLIC
BEGIN:VALARM
TRIGGER:-PT30M
ACTION:DISPLAY
DESCRIPTION:Reminder
END:VALARM
END:VEVENT
END:VCALENDAR
