BEGIN:VCALENDAR
PRODID:-//Tendenci - The Open Source AMS for Associations//Tendenci Codebase 12 MIMEDIR//EN
VERSION:2.0
METHOD:PUBLISH
BEGIN:VEVENT
DTSTAMP:20260422T051158Z
ORGANIZER:
DTSTART:20260507T190000Z
DTEND:20260507T210000Z
LOCATION:
TRANSP:OPAQUE
SEQUENCE:0
UID:uid3340@portal.momsforliberty.org
DESCRIPTION:--- This iCal file does *NOT* confirm registration.\r\nEvent details subject to change. ---\r\nhttps://portal.momsforliberty.org/events/3340/\r\n\r\nEvent Title: Floral Arranging Class to Support Club America\r\nStart Date / Time: May 07, 2026 12:00 PM US/Pacific\r\nLocation: \r\n \r\n\r\n\r\nDate: Thursday, May 7th, 2026Time: 12:00&ndash\;2:00 PMVenue: Saint Bartholomew Anglican Church  14821 Avondale Rd NE,  Woodinville, WA\r\n\r\n\r\n\r\n💰Funds raised will directly support our youth in participating in Women of Washington speaking events, Patriot programs, and provide scholarships for leadership training opportunities.\r\n🌸 Join us for a hands-on experience where you&rsquo\;ll create your own beautiful floral arrangement&mdash\;and take it home&mdash\;while helping invest in the next generation of leaders.\r\n💕If you&rsquo\;re unable to attend, we would greatly appreciate your support through a donation.\r\n✨ Come and Join us: Click to RSVP /Support\r\n--- This iCal file does *NOT* confirm registration.Event details subject to change. ---\r\n\r\n--- By Tendenci - The Open Source AMS for Associations ---\r\n
X-ALT-DESC;FMTTYPE=text/html:<div>--- This iCal file does *NOT* confirm registration.Event details subject to change. ---</div><h1>Event Title: Floral Arranging Class to Support Club America</h1><div>https://portal.momsforliberty.org/events/3340/</div><br /><div>When: May 07, 2026 12:00 PM US/Pacific</div><br /><div><p>&nbsp\;</p>
<div>
<div>
<p><strong>Date:</strong>&nbsp\;<strong>Thursday, May 7th, 2026<br />Time:&nbsp\;12:00&ndash\;2:00 PM</strong><br /><strong>Venue:&nbsp\;</strong><strong>Saint Bartholomew Anglican Church</strong>&nbsp\;&nbsp\;14821 Avondale Rd NE,&nbsp\; Woodinville, WA</p>
</div>
</div>
<div>
<p><span style="font-family: 'comic sans ms', sans-serif\;">💰Funds raised will directly support our youth in participating in&nbsp\;<strong>Women of Washington speaking events</strong>, Patriot programs, and provide scholarships for leadership training opportunities.</span></p>
<p><span style="font-family: 'comic sans ms', sans-serif\;">🌸&nbsp\;Join us for a hands-on experience where you&rsquo\;ll create your own beautiful floral arrangement&mdash\;and take it home&mdash\;while helping invest in the next generation of leaders.</span></p>
<p><span style="font-family: 'comic sans ms', sans-serif\;">💕If you&rsquo\;re unable to attend, we would greatly appreciate your support through a donation.</span></p>
<p><span style="font-family: 'comic sans ms', sans-serif\; font-size: large\;">✨&nbsp\;<strong>Come and Join us:</strong><span style="background-color: #000000\;">&nbsp\;<strong><a href="https://forms.gle/iEFVqzTouuaqeG7g8" target="_blank" rel="noopener"><span style="color: #ffffff\;">Click to RSVP /Support</span></a></strong></span></span></p>
</div></div><div>--- This iCal file does *NOT* confirm registration.Event details subject to change. ---</div><div>--- Tendenci&reg\; Software by <a href="https://www.tendenci.com">tendenci.com</a> - The Open Source AMS for Associations ---</div>
SUMMARY:Floral Arranging Class to Support Club America
PRIORITY:5
CLASS:PUBLIC
BEGIN:VALARM
TRIGGER:-PT30M
ACTION:DISPLAY
DESCRIPTION:Reminder
END:VALARM
END:VEVENT
END:VCALENDAR
