BEGIN:VCALENDAR
PRODID:-//Tendenci - The Open Source AMS for Associations//Tendenci Codebase 12 MIMEDIR//EN
VERSION:2.0
METHOD:PUBLISH
BEGIN:VEVENT
DTSTAMP:20260422T054024Z
ORGANIZER:
DTSTART:20260502T070000Z
DTEND:20260502T070000Z
LOCATION:
TRANSP:OPAQUE
SEQUENCE:0
UID:uid3341@portal.momsforliberty.org
DESCRIPTION:--- This iCal file does *NOT* confirm registration.\r\nEvent details subject to change. ---\r\nhttps://portal.momsforliberty.org/events/3341/\r\n\r\nEvent Title: Watch Party for Freedom 250 Ellis Island Event\r\nStart Date / Time: May 02, 2026 00:00 AM US/Pacific\r\nLocation: \r\n \r\n\r\nTickets are still available to attend this outstanding event.  Join Ann and Judy as we celebrate America's 250th!\r\n \r\nCan't attend in person?  Enjoy with M4L-KC (watch for details about time and location) or register here to host your own watch party with family and friends.  Learn about America's proud history from Glenn Beck, David Barton and Tim Barton. Explore original artifacts on Ellis Island and celebrate America with the Statue of Liberty as the backdrop to a fabulous fireworks show!\r\n\r\n\r\n\r\nELLIS ISLAND NEW YORK\r\n\r\n\r\n\r\n\r\nWith exclusive rights to the island, come explore the exhibits and galleries of this former immigration station and experience what over 12 million immigrants did in search of the American Dream.  This is truly a once in a lifetime experience, so join us for an enchanting evening of fine dining, and a celebration like no other, paying tribute to this great nation.\r\n\r\n--- This iCal file does *NOT* confirm registration.Event details subject to change. ---\r\n\r\n--- By Tendenci - The Open Source AMS for Associations ---\r\n
X-ALT-DESC;FMTTYPE=text/html:<div>--- This iCal file does *NOT* confirm registration.Event details subject to change. ---</div><h1>Event Title: Watch Party for Freedom 250 Ellis Island Event</h1><div>https://portal.momsforliberty.org/events/3341/</div><br /><div>When: May 02, 2026 00:00 AM US/Pacific</div><br /><div><p>&nbsp\;</p>
<div class="elementor-element elementor-element-c990e0e elementor-widget elementor-widget-heading animated fadeIn" data-id="c990e0e" data-element_type="widget" data-settings="{&quot\;_animation&quot\;:&quot\;fadeIn&quot\;}" data-widget_type="heading.default">
<div class="elementor-widget-container"><strong><em>Tickets are still available to attend this outstanding event. &nbsp\;Join Ann and Judy as we celebrate America's 250th!</em></strong></div>
<div class="elementor-widget-container">&nbsp\;</div>
<div class="elementor-widget-container"><span style="background-color: #ffff99\;"><strong><em>Can't attend in person? &nbsp\;Enjoy with M4L-KC (watch for details about time and location) or <a href="https://www.momsforliberty.org/event/ellis-island/">register here to host your own</a> watch party with family and friends. &nbsp\;Learn about America's proud history from Glenn Beck, David Barton and Tim Barton. Explore original artifacts on Ellis Island and celebrate America with the Statue of Liberty as the backdrop to a fabulous fireworks show!</em></strong></span></div>
</div>
<div class="elementor-element elementor-element-f92e163 elementor-widget elementor-widget-heading animated fadeIn" data-id="f92e163" data-element_type="widget" data-settings="{&quot\;_animation&quot\;:&quot\;fadeIn&quot\;}" data-widget_type="heading.default">
<div class="elementor-widget-container">
<h2 class="elementor-heading-title elementor-size-default">ELLIS ISLAND NEW YORK</h2>
</div>
</div>
<div class="elementor-element elementor-element-6e06568 elementor-widget elementor-widget-text-editor animated fadeIn" data-id="6e06568" data-element_type="widget" data-settings="{&quot\;_animation&quot\;:&quot\;fadeIn&quot\;}" data-widget_type="text-editor.default">
<div class="elementor-widget-container">
<p>With exclusive rights to the island, come explore the exhibits and galleries of this former immigration station and experience what over 12 million immigrants did in search of the American Dream.&nbsp\; This is truly a once in a lifetime experience, so join us for an enchanting evening of fine dining, and a celebration like no other, paying tribute to this great nation.</p>
</div>
</div></div><div>--- This iCal file does *NOT* confirm registration.Event details subject to change. ---</div><div>--- Tendenci&reg\; Software by <a href="https://www.tendenci.com">tendenci.com</a> - The Open Source AMS for Associations ---</div>
SUMMARY:Watch Party for Freedom 250 Ellis Island Event
PRIORITY:5
CLASS:PUBLIC
BEGIN:VALARM
TRIGGER:-PT30M
ACTION:DISPLAY
DESCRIPTION:Reminder
END:VALARM
END:VEVENT
END:VCALENDAR
