BEGIN:VCALENDAR
PRODID:-//Tendenci - The Open Source AMS for Associations//Tendenci Codebase 12 MIMEDIR//EN
VERSION:2.0
METHOD:PUBLISH
BEGIN:VEVENT
DTSTAMP:20260422T062522Z
ORGANIZER:
DTSTART:20260429T000000Z
DTEND:20260429T010000Z
LOCATION:
TRANSP:OPAQUE
SEQUENCE:0
UID:uid3342@portal.momsforliberty.org
DESCRIPTION:--- This iCal file does *NOT* confirm registration.\r\nEvent details subject to change. ---\r\nhttps://portal.momsforliberty.org/events/3342/\r\n\r\nEvent Title: Opting Out of EdTech\r\nStart Date / Time: Apr 28, 2026 17:00 PM US/Pacific\r\nLocation: \r\nJoin me (Ann - Chapter Chair) as I attend a webinar on opting out of EdTech put on by Emily Cherkin, The Screentime Consultant. \r\n"EdTech is just Big Tech in a sweater vest"\r\n \r\nRegister here--- This iCal file does *NOT* confirm registration.Event details subject to change. ---\r\n\r\n--- By Tendenci - The Open Source AMS for Associations ---\r\n
X-ALT-DESC;FMTTYPE=text/html:<div>--- This iCal file does *NOT* confirm registration.Event details subject to change. ---</div><h1>Event Title: Opting Out of EdTech</h1><div>https://portal.momsforliberty.org/events/3342/</div><br /><div>When: Apr 28, 2026 17:00 PM US/Pacific</div><br /><div><p>Join me (Ann - Chapter Chair) as I attend a webinar on opting out of EdTech put on by Emily Cherkin, The Screentime Consultant.&nbsp\;<br /><br /></p>
<p style="padding-left: 90px\;"><em><strong>"EdTech is just Big Tech in a sweater vest"</strong></em></p>
<p style="padding-left: 90px\;">&nbsp\;</p>
<p><a href="https://us06web.zoom.us/webinar/register/WN_rq1Dhkh6QfSsNOqQBbYb7g?utm_source=substack&amp\;utm_medium=email&amp\;os=ipad#/registration"><span style="background-color: #ffff99\;"><em><strong>Register here</strong></em></span></a></p></div><div>--- This iCal file does *NOT* confirm registration.Event details subject to change. ---</div><div>--- Tendenci&reg\; Software by <a href="https://www.tendenci.com">tendenci.com</a> - The Open Source AMS for Associations ---</div>
SUMMARY:Opting Out of EdTech
PRIORITY:5
CLASS:PUBLIC
BEGIN:VALARM
TRIGGER:-PT30M
ACTION:DISPLAY
DESCRIPTION:Reminder
END:VALARM
END:VEVENT
END:VCALENDAR
