BEGIN:VCALENDAR
PRODID:-//Tendenci - The Open Source AMS for Associations//Tendenci Codebase 12 MIMEDIR//EN
VERSION:2.0
METHOD:PUBLISH
BEGIN:VEVENT
DTSTAMP:20260424T230304Z
ORGANIZER:
DTSTART:20260505T223000Z
DTEND:20260506T000000Z
LOCATION:Oakhill Evangelical Presbyterian Church
TRANSP:OPAQUE
SEQUENCE:0
UID:uid3343@portal.momsforliberty.org
DESCRIPTION:--- This iCal file does *NOT* confirm registration.\r\nEvent details subject to change. ---\r\nhttps://portal.momsforliberty.org/events/3343/\r\n\r\nEvent Title: Kent County MI Chapter Meeting\r\nStart Date / Time: May 05, 2026 18:30 PM US/Eastern\r\nLocation: Oakhill Evangelical Presbyterian Church\r\nGoogle\r\nhttp://maps.google.com/maps?q=1930+Leonard+St+NE,Grand Rapids,MI,49505\r\n\r\nForecast\nhttp://www.weather.com/weather/monthly/49505\r\n\r\nThe Moms for Liberty Kent County MI Chapter Meeting is held the first Tuesday of every month from 6:30 p.m. to 8:00 p.m.  Please join us for our next meeting on Tuesday, May 5th.\r\nAt this month's meeting, Lance Griffin of 10xVotes.com will provide training on how you can leverage their product to increase voter turnout. \r\nWe look forward to seeing you and encourage you to bring a few friends with you.--- This iCal file does *NOT* confirm registration.Event details subject to change. ---\r\n\r\n--- By Tendenci - The Open Source AMS for Associations ---\r\n
X-ALT-DESC;FMTTYPE=text/html:<div>--- This iCal file does *NOT* confirm registration.Event details subject to change. ---</div><h1>Event Title: Kent County MI Chapter Meeting</h1><div>https://portal.momsforliberty.org/events/3343/</div><br /><div>When: May 05, 2026 18:30 PM US/Eastern</div><br />Oakhill Evangelical Presbyterian Church<br />1930 Leonard St NE<br />Grand Rapids, MI 49505<br /><div>http://maps.google.com/maps?q=1930+Leonard+St+NE,Grand Rapids,MI,49505</div><br /><div>Forecast: http://www.weather.com/weather/monthly/49505</div><br /><br /><div><p>The Moms for Liberty Kent County MI Chapter Meeting is held the first Tuesday of every month from 6:30 p.m. to 8:00 p.m.&nbsp\; Please join us for our next meeting on Tuesday, May 5th.</p>
<p>At this month's meeting, Lance Griffin of <a title="10xVotes Website" href="https://www.10xvotes.com/" target="_blank" rel="noopener">10xVotes.com</a> will provide training on how you can leverage their product to increase voter turnout.&nbsp\;</p>
<p>We look forward to seeing you and encourage you to bring a few friends with you.</p></div><div>--- This iCal file does *NOT* confirm registration.Event details subject to change. ---</div><div>--- Tendenci&reg\; Software by <a href="https://www.tendenci.com">tendenci.com</a> - The Open Source AMS for Associations ---</div>
SUMMARY:Kent County MI Chapter Meeting
PRIORITY:5
CLASS:PUBLIC
BEGIN:VALARM
TRIGGER:-PT30M
ACTION:DISPLAY
DESCRIPTION:Reminder
END:VALARM
END:VEVENT
END:VCALENDAR
