BEGIN:VCALENDAR
PRODID:-//Tendenci - The Open Source AMS for Associations//Tendenci Codebase 12 MIMEDIR//EN
VERSION:2.0
METHOD:PUBLISH
BEGIN:VEVENT
DTSTAMP:20260422T140947Z
ORGANIZER:
DTSTART:20220213T010000Z
DTEND:20220213T030000Z
LOCATION:Trident Technical College:
TRANSP:OPAQUE
SEQUENCE:0
UID:uid346@portal.momsforliberty.org
DESCRIPTION:--- This iCal file does *NOT* confirm registration.\r\nEvent details subject to change. ---\r\nhttps://portal.momsforliberty.org/events/346/\r\n\r\nEvent Title: Reclaiming Education in America\r\nStart Date / Time: Feb 12, 2022 19:00 PM US/Central\r\nLocation: Trident Technical College:\r\nSpeaker: Dr.  Mary Grabar, Representative Lin Bennett- SC District 114, Representative Mark Smith, Mike Miller, Representative RJ May- SC District 88, Dr. Elizabeth Enns, Mitch Prosser, Eric Epstein, Lynda Leventis-Wells, Lt. Governor Pamela Evette, AJ DePriest, Sheri Few\r\nGoogle\r\nhttp://maps.google.com/maps?q=7000+Rivers+Ave,North Charleston,SC,29406\r\n\r\nForecast\nhttp://www.weather.com/weather/monthly/29406\r\n\r\nREGISTRATION IS CLOSED- BUT YOU CAN COME TO THE EVENT TODAY AND PAY $15 AT THE DOOR\r\n \r\nJoin us to learn about how our schools are actively indoctrinating our children and how upcoming federal and state legislation can restore parental and student rights. \r\nCost is a $10 donation- free for students\r\nSpeakers to include:\r\nDr. Mary Grabar: Author of "Debunking the 1619 Project"\r\nDr. Elizabeth Enns: Founder of Patriotic Students of America\r\nLt. Governor Pamela Evette\r\nAJ DePriest: Healthcare Analysis Expert\r\nRepresentative RJ May- SC District 88: Sponsored the SC Parental Rights Bill H4555\r\nEric Epstein: Author of the Dignity Act (Anti CRT, DEI and SEL)\r\nRepresentative Lin Bennett- SC District 114\r\nRepresentative Mark Smith- SC District 99\r\nMitch Prosser: VP of Palmetto Family\r\nMike Miller: Turning Point USA South Carolina\r\nDr. Kizzie Staley Gibson - Candidate SC Superintendent of Education\r\nEllen Weaver - Candidate SC Superintendent of Education\r\nLynda Leventis-Wells - Candidate SC Superintendent of Education\r\nSheri Few-  Candidate SC Superintendent of Education\r\nMore speakers TBA\r\n \r\nHosted by Moms for Liberty Charleston County and Moms for Liberty Berkeley County--- This iCal file does *NOT* confirm registration.Event details subject to change. ---\r\n\r\n--- By Tendenci - The Open Source AMS for Associations ---\r\n
X-ALT-DESC;FMTTYPE=text/html:<div>--- This iCal file does *NOT* confirm registration.Event details subject to change. ---</div><h1>Event Title: Reclaiming Education in America</h1><div>https://portal.momsforliberty.org/events/346/</div><br /><div>When: Feb 12, 2022 19:00 PM US/Central</div><div>Speaker: Dr.  Mary Grabar, Representative Lin Bennett- SC District 114, Representative Mark Smith, Mike Miller, Representative RJ May- SC District 88, Dr. Elizabeth Enns, Mitch Prosser, Eric Epstein, Lynda Leventis-Wells, Lt. Governor Pamela Evette, AJ DePriest, Sheri Few</div><br />Trident Technical College:<br />7000 Rivers Ave<br />North Charleston, SC 29406<br /><div>http://maps.google.com/maps?q=7000+Rivers+Ave,North Charleston,SC,29406</div><br /><div>Forecast: http://www.weather.com/weather/monthly/29406</div><br /><br /><div><h1><span style="color: #ff0000\;"><strong>REGISTRATION IS CLOSED- BUT YOU CAN COME TO THE EVENT TODAY AND PAY $15 AT THE DOOR</strong></span></h1>
<p>&nbsp\;</p>
<p><strong>Join us to learn about how our schools are actively indoctrinating our children and how upcoming federal and state legislation can restore parental and student rights. </strong></p>
<p>Cost is a $10 donation- free for students</p>
<p><strong>Speakers to include:</strong></p>
<p>Dr. Mary Grabar: Author of "Debunking the 1619 Project"</p>
<p>Dr. Elizabeth Enns: Founder of Patriotic Students of America</p>
<p>Lt. Governor Pamela Evette</p>
<p>AJ DePriest: Healthcare Analysis Expert</p>
<p>Representative RJ May- SC District 88: Sponsored the SC Parental Rights Bill H4555</p>
<p><span class="JsGRdQ">Eric Epstein: Author of the Dignity Act (Anti CRT, DEI and SEL)</span></p>
<p>Representative Lin Bennett- SC District 114</p>
<p>Representative Mark Smith-&nbsp\;<span class="JsGRdQ">SC District 99</span></p>
<p><span class="JsGRdQ">Mitch Prosser: VP of Palmetto Family</span></p>
<p>Mike Miller: Turning Point USA South Carolina</p>
<p><span class="JsGRdQ">Dr. Kizzie Staley Gibson - Candidate SC Superintendent of Education</span></p>
<p><span class="JsGRdQ">Ellen Weaver - Candidate SC Superintendent of Education</span></p>
<p><span class="JsGRdQ">Lynda Leventis-Wells -&nbsp\;Candidate SC Superintendent of Education</span></p>
<p><span class="JsGRdQ">Sheri Few- &nbsp\;Candidate SC Superintendent of Education</span></p>
<p><span class="JsGRdQ">More speakers TBA</span></p>
<p>&nbsp\;</p>
<p><em>Hosted by Moms for Liberty Charleston County and Moms for Liberty Berkeley County</em></p></div><div>--- This iCal file does *NOT* confirm registration.Event details subject to change. ---</div><div>--- Tendenci&reg\; Software by <a href="https://www.tendenci.com">tendenci.com</a> - The Open Source AMS for Associations ---</div>
SUMMARY:Reclaiming Education in America
PRIORITY:5
CLASS:PUBLIC
BEGIN:VALARM
TRIGGER:-PT30M
ACTION:DISPLAY
DESCRIPTION:Reminder
END:VALARM
END:VEVENT
END:VCALENDAR
