BEGIN:VCALENDAR
PRODID:-//Tendenci - The Open Source AMS for Associations//Tendenci Codebase 12 MIMEDIR//EN
VERSION:2.0
METHOD:PUBLISH
BEGIN:VEVENT
DTSTAMP:20260424T044501Z
ORGANIZER:
DTSTART:20220219T063000Z
DTEND:20220219T083000Z
LOCATION:VFW
TRANSP:OPAQUE
SEQUENCE:0
UID:uid364@portal.momsforliberty.org
DESCRIPTION:--- This iCal file does *NOT* confirm registration.\r\nEvent details subject to change. ---\r\nhttps://portal.momsforliberty.org/events/364/\r\n\r\nEvent Title: RAY SANCHEZ\r\nStart Date / Time: Feb 19, 2022 00:30 AM US/Central\r\nLocation: VFW\r\nSpeaker: RAY SANCHEZ\r\nGoogle\r\nhttp://maps.google.com/maps?q=47+OLD+KINGS+RD+N,PALM COAST,FL,32164\r\n\r\nForecast\nhttp://www.weather.com/weather/monthly/32164\r\n\r\nFlagler County February 18th speaker event.  We are thrilled to have Ray Sanchez come speak to us about the New World Order that is being discussed all over the world these days.  Like it or not, we all need to be educated about this and Ray Sanchez is an authority on this topic.  Please distribute this information to anyone you think may be interested in attending\; we hope to have a huge crowd for Ray!  This should be especially interesting to parents since this could have a huge impact on them and their children in the years to come.--- This iCal file does *NOT* confirm registration.Event details subject to change. ---\r\n\r\n--- By Tendenci - The Open Source AMS for Associations ---\r\n
X-ALT-DESC;FMTTYPE=text/html:<div>--- This iCal file does *NOT* confirm registration.Event details subject to change. ---</div><h1>Event Title: RAY SANCHEZ</h1><div>https://portal.momsforliberty.org/events/364/</div><br /><div>When: Feb 19, 2022 00:30 AM US/Central</div><div>Speaker: RAY SANCHEZ</div><br />VFW<br />47 OLD KINGS RD N<br />PALM COAST, FL 32164<br /><div>http://maps.google.com/maps?q=47+OLD+KINGS+RD+N,PALM COAST,FL,32164</div><br /><div>Forecast: http://www.weather.com/weather/monthly/32164</div><br /><br /><div><p><strong>Flagler County February 18<sup>th</sup>&nbsp\;speaker event.&nbsp\; We are thrilled to have Ray Sanchez come speak to us about the New World Order that is being discussed all over the world these days.&nbsp\; Like it or not, we all need to be educated about this and Ray Sanchez is an authority on this topic.&nbsp\; Please distribute this information to anyone you think may be interested in attending\; we hope to have a huge crowd for Ray!&nbsp\; This should be especially interesting to parents since this could have a huge impact on them and their children in the years to come.</strong></p></div><div>--- This iCal file does *NOT* confirm registration.Event details subject to change. ---</div><div>--- Tendenci&reg\; Software by <a href="https://www.tendenci.com">tendenci.com</a> - The Open Source AMS for Associations ---</div>
SUMMARY:RAY SANCHEZ
PRIORITY:5
CLASS:PUBLIC
BEGIN:VALARM
TRIGGER:-PT30M
ACTION:DISPLAY
DESCRIPTION:Reminder
END:VALARM
END:VEVENT
END:VCALENDAR
