BEGIN:VCALENDAR
PRODID:-//Tendenci - The Open Source AMS for Associations//Tendenci Codebase 12 MIMEDIR//EN
VERSION:2.0
METHOD:PUBLISH
BEGIN:VEVENT
DTSTAMP:20260421T202209Z
ORGANIZER:
DTSTART:20220209T063000Z
DTEND:20220209T080000Z
LOCATION:The Clever Cup Coffee Shop
TRANSP:OPAQUE
SEQUENCE:0
UID:uid365@portal.momsforliberty.org
DESCRIPTION:--- This iCal file does *NOT* confirm registration.\r\nEvent details subject to change. ---\r\nhttps://portal.momsforliberty.org/events/365/\r\n\r\nEvent Title: Sarasota County  Monthly Chapter Mix & Meeting\r\nStart Date / Time: Feb 09, 2022 00:30 AM US/Central\r\nLocation: The Clever Cup Coffee Shop\r\nSpeaker: Sarasota County Schools Superintendent | Dr. Brennan Asplen\r\nGoogle\r\nhttp://maps.google.com/maps?q=6530+Gateway+Avenue,Sarasota,34231\r\n\r\nForecast\nhttp://www.weather.com/weather/monthly/34231\r\n\r\nSarasota County Monthly Chapter Mix &amp\; Meeting | Tuesday, February 8th\r\n \r\n\r\n \r\nCome, mix &amp\; mingle and learn about how to get involved and make a difference in our Sarasota County Schools! This month, we will have a special guest presenter, SCS Superintendent, Dr. Asplen. This will be a great opportunity to really dig into what is happening in our district and what&rsquo\;s ahead for SCS! Please join us at The Clever Cup Coffee shop on Tuesday, February, 8 at 6:30 pm.\r\n \r\n --- This iCal file does *NOT* confirm registration.Event details subject to change. ---\r\n\r\n--- By Tendenci - The Open Source AMS for Associations ---\r\n
X-ALT-DESC;FMTTYPE=text/html:<div>--- This iCal file does *NOT* confirm registration.Event details subject to change. ---</div><h1>Event Title: Sarasota County  Monthly Chapter Mix & Meeting</h1><div>https://portal.momsforliberty.org/events/365/</div><br /><div>When: Feb 09, 2022 00:30 AM US/Central</div><div>Speaker: Sarasota County Schools Superintendent | Dr. Brennan Asplen</div><br />The Clever Cup Coffee Shop<br />6530 Gateway Avenue<br /> 34231<br /><div>http://maps.google.com/maps?q=6530+Gateway+Avenue,Sarasota,34231</div><br /><div>Forecast: http://www.weather.com/weather/monthly/34231</div><br /><br /><div><h1>Sarasota County Monthly Chapter Mix &amp\; Meeting | Tuesday, February 8th</h1>
<p>&nbsp\;</p>
<p><video controls="controls" width="488" height="244">
<source src="/files/946/" /></video>&nbsp\;</p>
<p>Come, mix &amp\; mingle and learn about how to get involved and make a difference in our Sarasota County Schools! This month, we will have a special guest presenter, SCS Superintendent, Dr. Asplen. This will be a great opportunity to really dig into what is happening in our district and what&rsquo\;s ahead for SCS! Please join us at The Clever Cup Coffee shop on Tuesday, February, 8 at 6:30 pm.</p>
<p>&nbsp\;</p>
<p>&nbsp\;</p></div><div>--- This iCal file does *NOT* confirm registration.Event details subject to change. ---</div><div>--- Tendenci&reg\; Software by <a href="https://www.tendenci.com">tendenci.com</a> - The Open Source AMS for Associations ---</div>
SUMMARY:Sarasota County  Monthly Chapter Mix & Meeting
PRIORITY:5
CLASS:PUBLIC
BEGIN:VALARM
TRIGGER:-PT30M
ACTION:DISPLAY
DESCRIPTION:Reminder
END:VALARM
END:VEVENT
END:VCALENDAR
