BEGIN:VCALENDAR
PRODID:-//Tendenci - The Open Source AMS for Associations//Tendenci Codebase 12 MIMEDIR//EN
VERSION:2.0
METHOD:PUBLISH
BEGIN:VEVENT
DTSTAMP:20260425T194000Z
ORGANIZER:Kit Hart
DTSTART:20220211T050000Z
DTEND:20220211T073000Z
LOCATION:Bistro 91
TRANSP:OPAQUE
SEQUENCE:0
UID:uid388@portal.momsforliberty.org
DESCRIPTION:--- This iCal file does *NOT* confirm registration.\r\nEvent details subject to change. ---\r\nhttps://portal.momsforliberty.org/events/388/\r\n\r\nEvent Title: Mary Bravard "Debunking the 1619 Project"\r\nStart Date / Time: Feb 11, 2022 00:00 AM America/New_York\r\nLocation: Bistro 91\r\nSpeaker: Mary Bravard\r\nRenowned author and speaker, Mary Grabar, will discuss the importance of reclaiming education in America.\r\nCocktail hour 6pm. Talk begins at 7.Copies of &ldquo\;Debunking the 1619 Project&rdquo\; will be available for a discounted purchase.\r\n$10 in advance through PayPal (@MomsForLibertyCC) or $15 at the door*we encourage you to order dinner/drinks to support Bistro 91*\r\nEvent sponsored by Moms For Liberty (M4LCC) and Concerned Parents of Carroll County (CPOCC)--- This iCal file does *NOT* confirm registration.Event details subject to change. ---\r\n\r\n--- By Tendenci - The Open Source AMS for Associations ---\r\n
X-ALT-DESC;FMTTYPE=text/html:<div>--- This iCal file does *NOT* confirm registration.Event details subject to change. ---</div><h1>Event Title: Mary Bravard "Debunking the 1619 Project"</h1><div>https://portal.momsforliberty.org/events/388/</div><br /><div>When: Feb 11, 2022 00:00 AM America/New_York</div><div>Speaker: Mary Bravard</div><br /><div><div class="kvgmc6g5 cxmmr5t8 oygrvhab hcukyx3x c1et5uql">Renowned author and speaker, Mary Grabar, will discuss the importance of reclaiming education in America.</div>
<div class="cxmmr5t8 oygrvhab hcukyx3x c1et5uql o9v6fnle">Cocktail hour 6pm. Talk begins at 7.<br />Copies of &ldquo\;Debunking the 1619 Project&rdquo\; will be available for a discounted purchase.</div>
<div class="cxmmr5t8 oygrvhab hcukyx3x c1et5uql o9v6fnle">$10 in advance through PayPal (@MomsForLibertyCC) or $15 at the door<br />*we encourage you to order dinner/drinks to support Bistro 91*</div>
<div class="cxmmr5t8 oygrvhab hcukyx3x c1et5uql o9v6fnle">Event sponsored by Moms For Liberty (M4LCC) and Concerned Parents of Carroll County (CPOCC)</div></div><div>--- This iCal file does *NOT* confirm registration.Event details subject to change. ---</div><div>--- Tendenci&reg\; Software by <a href="https://www.tendenci.com">tendenci.com</a> - The Open Source AMS for Associations ---</div>
SUMMARY:Mary Bravard "Debunking the 1619 Project"
PRIORITY:5
CLASS:PUBLIC
BEGIN:VALARM
TRIGGER:-PT30M
ACTION:DISPLAY
DESCRIPTION:Reminder
END:VALARM
END:VEVENT
END:VCALENDAR
