BEGIN:VCALENDAR
PRODID:-//Tendenci - The Open Source AMS for Associations//Tendenci Codebase 12 MIMEDIR//EN
VERSION:2.0
METHOD:PUBLISH
BEGIN:VEVENT
DTSTAMP:20260422T114424Z
ORGANIZER:
DTSTART:20220225T063000Z
DTEND:20220225T080000Z
LOCATION:
TRANSP:OPAQUE
SEQUENCE:0
UID:uid390@portal.momsforliberty.org
DESCRIPTION:--- This iCal file does *NOT* confirm registration.\r\nEvent details subject to change. ---\r\nhttps://portal.momsforliberty.org/events/390/\r\n\r\nEvent Title: Davidson Co., TN - Chapter Meeting\r\nStart Date / Time: Feb 25, 2022 00:30 AM US/Central\r\nLocation: \r\nGoogle\r\nhttp://maps.google.com/maps?q=3143+McGavock+Pike,Nashville,TN,37214\r\n\r\nForecast\nhttp://www.weather.com/weather/monthly/37214\r\n\r\nUpcoming Chapter Meetings at Lincoya Hills Baptist Church\r\n3143 McGavock Pike\r\n(across from the baseball field)\r\n6:30-8:00--- This iCal file does *NOT* confirm registration.Event details subject to change. ---\r\n\r\n--- By Tendenci - The Open Source AMS for Associations ---\r\n
X-ALT-DESC;FMTTYPE=text/html:<div>--- This iCal file does *NOT* confirm registration.Event details subject to change. ---</div><h1>Event Title: Davidson Co., TN - Chapter Meeting</h1><div>https://portal.momsforliberty.org/events/390/</div><br /><div>When: Feb 25, 2022 00:30 AM US/Central</div><br /><br />3143 McGavock Pike<br />Nashville, TN 37214<br /><div>http://maps.google.com/maps?q=3143+McGavock+Pike,Nashville,TN,37214</div><br /><div>Forecast: http://www.weather.com/weather/monthly/37214</div><br /><br /><div><p>Upcoming Chapter Meetings at Lincoya Hills Baptist Church</p>
<p>3143 McGavock Pike</p>
<p>(across from the baseball field)</p>
<p>6:30-8:00</p></div><div>--- This iCal file does *NOT* confirm registration.Event details subject to change. ---</div><div>--- Tendenci&reg\; Software by <a href="https://www.tendenci.com">tendenci.com</a> - The Open Source AMS for Associations ---</div>
SUMMARY:Davidson Co., TN - Chapter Meeting
PRIORITY:5
CLASS:PUBLIC
BEGIN:VALARM
TRIGGER:-PT30M
ACTION:DISPLAY
DESCRIPTION:Reminder
END:VALARM
END:VEVENT
END:VCALENDAR
