BEGIN:VCALENDAR
PRODID:-//Tendenci - The Open Source AMS for Associations//Tendenci Codebase 12 MIMEDIR//EN
VERSION:2.0
METHOD:PUBLISH
BEGIN:VEVENT
DTSTAMP:20260422T061823Z
ORGANIZER:
DTSTART:20220301T060000Z
DTEND:20220301T090000Z
LOCATION:
TRANSP:OPAQUE
SEQUENCE:0
UID:uid415@portal.momsforliberty.org
DESCRIPTION:--- This iCal file does *NOT* confirm registration.\r\nEvent details subject to change. ---\r\nhttps://portal.momsforliberty.org/events/415/\r\n\r\nEvent Title: Oakland County Chapter Meeting\r\nStart Date / Time: Mar 01, 2022 00:00 AM US/Central\r\nLocation: \r\nOur next Moms for Liberty Oakland County Chapter Meeting will be at Ike's Lebanese restaurant on 38550 Van Dyke Avenue in Sterling Heights. Two speakers from Walled Lake Citizens for Parental Choice, a speaker from Michigan Freedom Fund, and a homeschool parent will be speaking that night! Kids are welcome! A set dinner menu will be offered for $25. For those who will be eating, you can just give me cash that evening or you can pay me through my Venmo account at Katie-MacFarland40. Ike's does not take separate checks.--- This iCal file does *NOT* confirm registration.Event details subject to change. ---\r\n\r\n--- By Tendenci - The Open Source AMS for Associations ---\r\n
X-ALT-DESC;FMTTYPE=text/html:<div>--- This iCal file does *NOT* confirm registration.Event details subject to change. ---</div><h1>Event Title: Oakland County Chapter Meeting</h1><div>https://portal.momsforliberty.org/events/415/</div><br /><div>When: Mar 01, 2022 00:00 AM US/Central</div><br /><div><p>Our next Moms for Liberty Oakland County Chapter Meeting will be at Ike's Lebanese restaurant on 38550 Van Dyke Avenue in Sterling Heights. Two speakers from Walled Lake Citizens for Parental Choice, a speaker from Michigan Freedom Fund, and a homeschool parent will be speaking that night! Kids are welcome! A set dinner menu will be offered for $25. For those who will be eating, you can just give me cash that evening or you can pay me through my Venmo account at Katie-MacFarland40. Ike's does not take separate checks.</p></div><div>--- This iCal file does *NOT* confirm registration.Event details subject to change. ---</div><div>--- Tendenci&reg\; Software by <a href="https://www.tendenci.com">tendenci.com</a> - The Open Source AMS for Associations ---</div>
SUMMARY:Oakland County Chapter Meeting
PRIORITY:5
CLASS:PUBLIC
BEGIN:VALARM
TRIGGER:-PT30M
ACTION:DISPLAY
DESCRIPTION:Reminder
END:VALARM
END:VEVENT
END:VCALENDAR
