BEGIN:VCALENDAR
PRODID:-//Tendenci - The Open Source AMS for Associations//Tendenci Codebase 12 MIMEDIR//EN
VERSION:2.0
METHOD:PUBLISH
BEGIN:VEVENT
DTSTAMP:20260419T211540Z
ORGANIZER:
DTSTART:20220316T043000Z
DTEND:20220316T063000Z
LOCATION:Buffalo Covenant Church Hwy 25
TRANSP:OPAQUE
SEQUENCE:0
UID:uid418@portal.momsforliberty.org
DESCRIPTION:--- This iCal file does *NOT* confirm registration.\r\nEvent details subject to change. ---\r\nhttps://portal.momsforliberty.org/events/418/\r\n\r\nEvent Title: Learning to run for school board\r\nStart Date / Time: Mar 15, 2022 23:30 PM US/Central\r\nLocation: Buffalo Covenant Church Hwy 25\r\nGet an inside look at what it takes to run for school board.  You can make a difference by getting involved. --- This iCal file does *NOT* confirm registration.Event details subject to change. ---\r\n\r\n--- By Tendenci - The Open Source AMS for Associations ---\r\n
X-ALT-DESC;FMTTYPE=text/html:<div>--- This iCal file does *NOT* confirm registration.Event details subject to change. ---</div><h1>Event Title: Learning to run for school board</h1><div>https://portal.momsforliberty.org/events/418/</div><br /><div>When: Mar 15, 2022 23:30 PM US/Central</div><br /><div><p>Get an inside look at what it takes to run for school board.&nbsp\; You can make a difference by getting involved.&nbsp\;</p></div><div>--- This iCal file does *NOT* confirm registration.Event details subject to change. ---</div><div>--- Tendenci&reg\; Software by <a href="https://www.tendenci.com">tendenci.com</a> - The Open Source AMS for Associations ---</div>
SUMMARY:Learning to run for school board
PRIORITY:5
CLASS:PUBLIC
BEGIN:VALARM
TRIGGER:-PT30M
ACTION:DISPLAY
DESCRIPTION:Reminder
END:VALARM
END:VEVENT
END:VCALENDAR
