BEGIN:VCALENDAR
PRODID:-//Tendenci - The Open Source AMS for Associations//Tendenci Codebase 12 MIMEDIR//EN
VERSION:2.0
METHOD:PUBLISH
BEGIN:VEVENT
DTSTAMP:20260421T202109Z
ORGANIZER:Restore MN
DTSTART:20220216T063000Z
DTEND:20220216T083000Z
LOCATION:
TRANSP:OPAQUE
SEQUENCE:0
UID:uid424@portal.momsforliberty.org
DESCRIPTION:--- This iCal file does *NOT* confirm registration.\r\nEvent details subject to change. ---\r\nhttps://portal.momsforliberty.org/events/424/\r\n\r\nEvent Title: Community Solutions - Learning effective political campainging\r\nStart Date / Time: Feb 16, 2022 00:30 AM US/Central\r\nLocation: \r\nSpeaker: Jason\r\nWCCAT (Restore MN) is hosting a speaker from Community Solutions this Tuesday Feb 15th at 6:30.  We will be learing how to campaign and fundraise. \r\nThey have spent over 9 years learning the ins and outs of local, nonpartisan politics. Through the use of new media techniques and old-fashioned work ethic they worked to replace sitting council and school board members that were not working in the best interest of thier constituants. \r\nIts time we learned to do the same!  --- This iCal file does *NOT* confirm registration.Event details subject to change. ---\r\n\r\n--- By Tendenci - The Open Source AMS for Associations ---\r\n
X-ALT-DESC;FMTTYPE=text/html:<div>--- This iCal file does *NOT* confirm registration.Event details subject to change. ---</div><h1>Event Title: Community Solutions - Learning effective political campainging</h1><div>https://portal.momsforliberty.org/events/424/</div><br /><div>When: Feb 16, 2022 00:30 AM US/Central</div><div>Speaker: Jason</div><br /><div><p>WCCAT (Restore MN) is hosting a speaker from Community Solutions this Tuesday Feb 15th at 6:30.&nbsp\; We will be learing how to campaign and fundraise.&nbsp\;</p>
<p>They have spent over 9 years learning the ins and outs of local, nonpartisan politics. Through the use of new media techniques and old-fashioned work ethic they worked to replace sitting council and school board members that were not working in the best interest of thier constituants.&nbsp\;</p>
<p>Its time we learned to do the same!&nbsp\;&nbsp\;</p></div><div>--- This iCal file does *NOT* confirm registration.Event details subject to change. ---</div><div>--- Tendenci&reg\; Software by <a href="https://www.tendenci.com">tendenci.com</a> - The Open Source AMS for Associations ---</div>
SUMMARY:Community Solutions - Learning effective political campainging
PRIORITY:5
CLASS:PUBLIC
BEGIN:VALARM
TRIGGER:-PT30M
ACTION:DISPLAY
DESCRIPTION:Reminder
END:VALARM
END:VEVENT
END:VCALENDAR
