BEGIN:VCALENDAR
PRODID:-//Tendenci - The Open Source AMS for Associations//Tendenci Codebase 12 MIMEDIR//EN
VERSION:2.0
METHOD:PUBLISH
BEGIN:VEVENT
DTSTAMP:20260422T115739Z
ORGANIZER:
DTSTART:20220224T063000Z
DTEND:20220224T083000Z
LOCATION:
TRANSP:OPAQUE
SEQUENCE:0
UID:uid425@portal.momsforliberty.org
DESCRIPTION:--- This iCal file does *NOT* confirm registration.\r\nEvent details subject to change. ---\r\nhttps://portal.momsforliberty.org/events/425/\r\n\r\nEvent Title: FAIR event\r\nStart Date / Time: Feb 24, 2022 00:30 AM US/Central\r\nLocation: \r\nThis informational even to help gain some insgith in how we can help school districts find better alternatives to the reachially charged circulum that deals with inclusion and racims in our schoolt.\r\nLet's give our kids the wings of optimisim instead of the chains of microagressions. \r\n --- This iCal file does *NOT* confirm registration.Event details subject to change. ---\r\n\r\n--- By Tendenci - The Open Source AMS for Associations ---\r\n
X-ALT-DESC;FMTTYPE=text/html:<div>--- This iCal file does *NOT* confirm registration.Event details subject to change. ---</div><h1>Event Title: FAIR event</h1><div>https://portal.momsforliberty.org/events/425/</div><br /><div>When: Feb 24, 2022 00:30 AM US/Central</div><br /><div><p>This informational even to help gain some insgith in how we can help school districts find better alternatives to the reachially charged circulum that deals with inclusion and racims in our schoolt.</p>
<p>Let's give our kids the wings of optimisim instead of the chains of microagressions.&nbsp\;</p>
<p>&nbsp\;</p></div><div>--- This iCal file does *NOT* confirm registration.Event details subject to change. ---</div><div>--- Tendenci&reg\; Software by <a href="https://www.tendenci.com">tendenci.com</a> - The Open Source AMS for Associations ---</div>
SUMMARY:FAIR event
PRIORITY:5
CLASS:PUBLIC
BEGIN:VALARM
TRIGGER:-PT30M
ACTION:DISPLAY
DESCRIPTION:Reminder
END:VALARM
END:VEVENT
END:VCALENDAR
