BEGIN:VCALENDAR
PRODID:-//Tendenci - The Open Source AMS for Associations//Tendenci Codebase 12 MIMEDIR//EN
VERSION:2.0
METHOD:PUBLISH
BEGIN:VEVENT
DTSTAMP:20260420T070646Z
ORGANIZER:
DTSTART:20220317T040000Z
DTEND:20220317T060000Z
LOCATION:
TRANSP:OPAQUE
SEQUENCE:0
UID:uid435@portal.momsforliberty.org
DESCRIPTION:--- This iCal file does *NOT* confirm registration.\r\nEvent details subject to change. ---\r\nhttps://portal.momsforliberty.org/events/435/\r\n\r\nEvent Title: Book Club\r\nStart Date / Time: Mar 17, 2022 00:00 AM US/Eastern\r\nLocation: \r\nJoin us as we continue to read RFKJr's The Real Anthony Fauci. Tina Marie Bloomer has graciously offered to host again, and e do a salad bar again. So, bring an item like sliced cucumbers, red onions, grilled chicken, mandarin oranges, etc.\r\nPlease click the link for details and to RSVP.\r\nhttp://evite.me/Tfqq5XCvDA--- This iCal file does *NOT* confirm registration.Event details subject to change. ---\r\n\r\n--- By Tendenci - The Open Source AMS for Associations ---\r\n
X-ALT-DESC;FMTTYPE=text/html:<div>--- This iCal file does *NOT* confirm registration.Event details subject to change. ---</div><h1>Event Title: Book Club</h1><div>https://portal.momsforliberty.org/events/435/</div><br /><div>When: Mar 17, 2022 00:00 AM US/Eastern</div><br /><div><p>Join us as we continue to read RFKJr's The Real Anthony Fauci. Tina Marie Bloomer has graciously offered to host again, and e do a salad bar again. So, bring an item like sliced cucumbers, red onions, grilled chicken, mandarin oranges, etc.</p>
<p>Please click the link for details and to RSVP.</p>
<p>http://evite.me/Tfqq5XCvDA</p></div><div>--- This iCal file does *NOT* confirm registration.Event details subject to change. ---</div><div>--- Tendenci&reg\; Software by <a href="https://www.tendenci.com">tendenci.com</a> - The Open Source AMS for Associations ---</div>
SUMMARY:Book Club
PRIORITY:5
CLASS:PUBLIC
BEGIN:VALARM
TRIGGER:-PT30M
ACTION:DISPLAY
DESCRIPTION:Reminder
END:VALARM
END:VEVENT
END:VCALENDAR
