BEGIN:VCALENDAR
PRODID:-//Tendenci - The Open Source AMS for Associations//Tendenci Codebase 12 MIMEDIR//EN
VERSION:2.0
METHOD:PUBLISH
BEGIN:VEVENT
DTSTAMP:20260422T082334Z
ORGANIZER:
DTSTART:20220329T190000Z
DTEND:20220329T210000Z
LOCATION:
TRANSP:OPAQUE
SEQUENCE:0
UID:uid444@portal.momsforliberty.org
DESCRIPTION:--- This iCal file does *NOT* confirm registration.\r\nEvent details subject to change. ---\r\nhttps://portal.momsforliberty.org/events/444/\r\n\r\nEvent Title: Hillsborough County School Board Workshop\r\nStart Date / Time: Mar 29, 2022 15:00 PM US/Eastern\r\nLocation: \r\nGoogle\r\nhttp://maps.google.com/maps?q=2920+N+40th+St,Tampa,FL,33605\r\n\r\nForecast\nhttp://www.weather.com/weather/monthly/33605\r\n\r\nWill update when topic has been posted.--- This iCal file does *NOT* confirm registration.Event details subject to change. ---\r\n\r\n--- By Tendenci - The Open Source AMS for Associations ---\r\n
X-ALT-DESC;FMTTYPE=text/html:<div>--- This iCal file does *NOT* confirm registration.Event details subject to change. ---</div><h1>Event Title: Hillsborough County School Board Workshop</h1><div>https://portal.momsforliberty.org/events/444/</div><br /><div>When: Mar 29, 2022 15:00 PM US/Eastern</div><br /><br />2920 N 40th St<br />Tampa, FL 33605<br /><div>http://maps.google.com/maps?q=2920+N+40th+St,Tampa,FL,33605</div><br /><div>Forecast: http://www.weather.com/weather/monthly/33605</div><br /><br /><div><p>Will update when topic has been posted.</p></div><div>--- This iCal file does *NOT* confirm registration.Event details subject to change. ---</div><div>--- Tendenci&reg\; Software by <a href="https://www.tendenci.com">tendenci.com</a> - The Open Source AMS for Associations ---</div>
SUMMARY:Hillsborough County School Board Workshop
PRIORITY:5
CLASS:PUBLIC
BEGIN:VALARM
TRIGGER:-PT30M
ACTION:DISPLAY
DESCRIPTION:Reminder
END:VALARM
END:VEVENT
END:VCALENDAR
