BEGIN:VCALENDAR
PRODID:-//Tendenci - The Open Source AMS for Associations//Tendenci Codebase 12 MIMEDIR//EN
VERSION:2.0
METHOD:PUBLISH
BEGIN:VEVENT
DTSTAMP:20260425T212239Z
ORGANIZER:
DTSTART:20220329T030000Z
DTEND:20220329T050000Z
LOCATION:
TRANSP:OPAQUE
SEQUENCE:0
UID:uid471@portal.momsforliberty.org
DESCRIPTION:--- This iCal file does *NOT* confirm registration.\r\nEvent details subject to change. ---\r\nhttps://portal.momsforliberty.org/events/471/\r\n\r\nEvent Title: Moms for Liberty - Chatham County chapter meeting\r\nStart Date / Time: Mar 28, 2022 23:00 PM US/Eastern\r\nLocation: \r\nThe next meeting for the Chatham County chapter will be:\r\n \r\nMonday, March 28th at 6pm\r\nVirlie&rsquo\;s Grill\r\n58 Hillsboro St, Pittsboro\r\n \r\nAgain, like last time, we will have a private room and you are encouraged to order &mdash\; and pay for &mdash\; your own food during the meeting. This will be another informal gathering to get to know each other better and talk about some issues in our county and how we can actively make a difference for ours and our children&rsquo\;s future. I am still finalizing a speaker to attend &mdash\; most likely a candidate in the upcoming election. I&rsquo\;m hoping to get a representative from both sides of the aisle to speak so we, as always, can make our own informed decisions as to who the best candidates will be. The NC Primaries are May 17th&hellip\;.fyi. If you would like to be a poll worker, there will be information about that and a sign-up at the meeting.--- This iCal file does *NOT* confirm registration.Event details subject to change. ---\r\n\r\n--- By Tendenci - The Open Source AMS for Associations ---\r\n
X-ALT-DESC;FMTTYPE=text/html:<div>--- This iCal file does *NOT* confirm registration.Event details subject to change. ---</div><h1>Event Title: Moms for Liberty - Chatham County chapter meeting</h1><div>https://portal.momsforliberty.org/events/471/</div><br /><div>When: Mar 28, 2022 23:00 PM US/Eastern</div><br /><div><div class="">The next meeting for the Chatham County chapter will be:</div>
<div class="">&nbsp\;</div>
<div class=""><strong class="">Monday, March 28th at&nbsp\;</strong><strong class="">6pm</strong></div>
<div class=""><a class="" href="https://www.virliesgrill.com/">Virlie&rsquo\;s Grill</a></div>
<div class=""><span class="">58 Hillsboro St, Pittsboro</span></div>
<div class=""><span class="">&nbsp\;</span></div>
<div class=""><span class="">Again, like last time, we will have a private room and you are encouraged to order &mdash\; and pay for &mdash\; your own food during the meeting.&nbsp\;</span><span style="color: #222222\; font-family: DDG_ProximaNova, DDG_ProximaNova_UI_0, DDG_ProximaNova_UI_1, DDG_ProximaNova_UI_2, DDG_ProximaNova_UI_3, DDG_ProximaNova_UI_4, DDG_ProximaNova_UI_5, DDG_ProximaNova_UI_6, 'Proxima Nova', 'Helvetica Neue', Helvetica, 'Segoe UI', 'Nimbus Sans L', 'Liberation Sans', 'Open Sans', FreeSans, Arial, sans-serif\;">This will be another informal gathering to get to know each other better and talk about some issues in our county and how we can actively make a difference for ours and our children&rsquo\;s future. I am still finalizing a speaker to attend&nbsp\;&mdash\;&nbsp\;most likely a candidate in the upcoming election. I&rsquo\;m hoping to get a representative from both sides of the aisle to speak so we, as always, can make our own informed decisions as to who the best candidates will be. The NC Primaries are May 17th&hellip\;.fyi. If you would like to be a poll worker, there will be information about that and a sign-up at the meeting.</span></div></div><div>--- This iCal file does *NOT* confirm registration.Event details subject to change. ---</div><div>--- Tendenci&reg\; Software by <a href="https://www.tendenci.com">tendenci.com</a> - The Open Source AMS for Associations ---</div>
SUMMARY:Moms for Liberty - Chatham County chapter meeting
PRIORITY:5
CLASS:PUBLIC
BEGIN:VALARM
TRIGGER:-PT30M
ACTION:DISPLAY
DESCRIPTION:Reminder
END:VALARM
END:VEVENT
END:VCALENDAR
