BEGIN:VCALENDAR
PRODID:-//Tendenci - The Open Source AMS for Associations//Tendenci Codebase 12 MIMEDIR//EN
VERSION:2.0
METHOD:PUBLISH
BEGIN:VEVENT
DTSTAMP:20260422T041009Z
ORGANIZER:
DTSTART:20220407T040000Z
DTEND:20220407T050000Z
LOCATION:Pure Pizza
TRANSP:OPAQUE
SEQUENCE:0
UID:uid473@portal.momsforliberty.org
DESCRIPTION:--- This iCal file does *NOT* confirm registration.\r\nEvent details subject to change. ---\r\nhttps://portal.momsforliberty.org/events/473/\r\n\r\nEvent Title: April Chapter Meeting\r\nStart Date / Time: Apr 07, 2022 00:00 AM US/Eastern\r\nLocation: Pure Pizza\r\nSpeaker: Sean Strain\r\nGoogle\r\nhttp://maps.google.com/maps?q=1911+Central+Ave.,Charlotte,28205\r\n\r\nForecast\nhttp://www.weather.com/weather/monthly/28205\r\n\r\nhttp://evite.me/C1zTmMRBgN\r\nOur April Chapter meeting will be held at 7:00 pm on Wedneday,  April 6th. It will be at Pure Pizza on Central Ave. again. Sean Strian is our guest Speaker. He is the District 6 CMS BOE representative, and he will speak about the responsibilities and functions of local elected officials such as City Counsel, BOCC, and BOE members.\r\n\r\n --- This iCal file does *NOT* confirm registration.Event details subject to change. ---\r\n\r\n--- By Tendenci - The Open Source AMS for Associations ---\r\n
X-ALT-DESC;FMTTYPE=text/html:<div>--- This iCal file does *NOT* confirm registration.Event details subject to change. ---</div><h1>Event Title: April Chapter Meeting</h1><div>https://portal.momsforliberty.org/events/473/</div><br /><div>When: Apr 07, 2022 00:00 AM US/Eastern</div><div>Speaker: Sean Strain</div><br />Pure Pizza<br />1911 Central Ave.<br /> 28205<br /><div>http://maps.google.com/maps?q=1911+Central+Ave.,Charlotte,28205</div><br /><div>Forecast: http://www.weather.com/weather/monthly/28205</div><br /><br /><div><p><a href="http://evite.me/C1zTmMRBgN" target="_blank" rel="noreferrer noopener" data-saferedirecturl="https://www.google.com/url?q=http://evite.me/C1zTmMRBgN&amp\;source=gmail&amp\;ust=1647611812956000&amp\;usg=AOvVaw06ym4Ay6Ys_fVuT0wP8Z95">http://evite.me/C1zTmMRBgN</a></p>
<p>Our April Chapter meeting will be held at 7:00 pm on Wedneday,&nbsp\; April 6th. It will be at Pure Pizza on Central Ave. again. Sean Strian is our guest Speaker. He is the District 6 CMS BOE representative, and he will speak about the responsibilities and functions of local elected officials such as City Counsel, BOCC, and BOE members.</p>
<hr />
<p>&nbsp\;</p></div><div>--- This iCal file does *NOT* confirm registration.Event details subject to change. ---</div><div>--- Tendenci&reg\; Software by <a href="https://www.tendenci.com">tendenci.com</a> - The Open Source AMS for Associations ---</div>
SUMMARY:April Chapter Meeting
PRIORITY:5
CLASS:PUBLIC
BEGIN:VALARM
TRIGGER:-PT30M
ACTION:DISPLAY
DESCRIPTION:Reminder
END:VALARM
END:VEVENT
END:VCALENDAR
