BEGIN:VCALENDAR
PRODID:-//Tendenci - The Open Source AMS for Associations//Tendenci Codebase 12 MIMEDIR//EN
VERSION:2.0
METHOD:PUBLISH
BEGIN:VEVENT
DTSTAMP:20260422T023539Z
ORGANIZER:
DTSTART:20220405T030000Z
DTEND:20220505T040000Z
LOCATION:
TRANSP:OPAQUE
SEQUENCE:0
UID:uid494@portal.momsforliberty.org
DESCRIPTION:--- This iCal file does *NOT* confirm registration.\r\nEvent details subject to change. ---\r\nhttps://portal.momsforliberty.org/events/494/\r\n\r\nEvent Title: Hillsborough County Public Schools Citizen Advisory Committee Meeting\r\nStart Date / Time: Apr 04, 2022 23:00 PM US/Eastern\r\nLocation: \r\nGoogle\r\nhttp://maps.google.com/maps?q=901+E+Kennedy+Blvd,Tampa,FL,33602\r\n\r\nForecast\nhttp://www.weather.com/weather/monthly/33602\r\n\r\nThe Citizen Oversight Committee oversees the spending on school improvement projects funded by the Education Referendum.\r\n \r\nThe committee, an impressive group with a longstanding commitment to the children and families of Hillsborough County, reviews the spending, progress and completion of all spending related to the $121-131 million a year generated by the half-penny sales tax over the next decade to address essential district needs including air conditioning, aging roofs, classroom technology and safety and security improvements.\r\n \r\nThe committee consists of six independent citizens who are not affiliated with the district and cannot work on projects funded by the referendum, and an additional member who is a Hillsborough County Public Schools principal and serves as a district representative to oversee spending and review referendum projects.\r\n \r\nCommittee Members: Betty Castor, MEd - Chair - Former University of South Florida President and Florida Commissioner of Education\r\nSheriff Chad Chronister - Vice ChairHillsborough County Sheriff and Longtime Child Protection Advocate\r\nRobert Bhoolai\r\nBonnie Carr - Retired Certified Public Accountant and Former Controller, Former Vice President and Chief Financial Officer of Hillsborough Community College\r\nRick Lott - Formerly Mayor of Plant City\r\nEd Narain, MBA, JD - Former State Representative and Active Civic Leader\r\nJose Valiente, CPA - Certified Public Accountant and Past Greater Tampa Chamber of Commerce Chair--- This iCal file does *NOT* confirm registration.Event details subject to change. ---\r\n\r\n--- By Tendenci - The Open Source AMS for Associations ---\r\n
X-ALT-DESC;FMTTYPE=text/html:<div>--- This iCal file does *NOT* confirm registration.Event details subject to change. ---</div><h1>Event Title: Hillsborough County Public Schools Citizen Advisory Committee Meeting</h1><div>https://portal.momsforliberty.org/events/494/</div><br /><div>When: Apr 04, 2022 23:00 PM US/Eastern</div><br /><br />901 E Kennedy Blvd<br />Tampa, FL 33602<br /><div>http://maps.google.com/maps?q=901+E+Kennedy+Blvd,Tampa,FL,33602</div><br /><div>Forecast: http://www.weather.com/weather/monthly/33602</div><br /><br /><div><div class="kvgmc6g5 cxmmr5t8 oygrvhab hcukyx3x c1et5uql">The Citizen Oversight Committee oversees the spending on school improvement projects funded by the Education Referendum.</div>
<div class="kvgmc6g5 cxmmr5t8 oygrvhab hcukyx3x c1et5uql">&nbsp\;</div>
<div class="cxmmr5t8 oygrvhab hcukyx3x c1et5uql o9v6fnle">The committee, an impressive group with a longstanding commitment to the children and families of Hillsborough County, reviews the spending, progress and completion of all spending related to the $121-131 million a year generated by the half-penny sales tax over the next decade to address essential district needs including air conditioning, aging roofs, classroom technology and safety and security improvements.</div>
<div class="cxmmr5t8 oygrvhab hcukyx3x c1et5uql o9v6fnle">&nbsp\;</div>
<div class="cxmmr5t8 oygrvhab hcukyx3x c1et5uql o9v6fnle">The committee consists of six independent citizens who are not affiliated with the district and cannot work on projects funded by the referendum, and an additional member who is a Hillsborough County Public Schools principal and serves as a district representative to oversee spending and review referendum projects.</div>
<div class="cxmmr5t8 oygrvhab hcukyx3x c1et5uql o9v6fnle">&nbsp\;</div>
<div class="cxmmr5t8 oygrvhab hcukyx3x c1et5uql o9v6fnle">Committee Members: <br />Betty Castor, MEd - Chair - Former University of South Florida President and Florida Commissioner of Education</div>
<div class="cxmmr5t8 oygrvhab hcukyx3x c1et5uql o9v6fnle">Sheriff Chad Chronister - Vice Chair<br />Hillsborough County Sheriff and Longtime Child Protection Advocate</div>
<div class="cxmmr5t8 oygrvhab hcukyx3x c1et5uql o9v6fnle">Robert Bhoolai</div>
<div class="cxmmr5t8 oygrvhab hcukyx3x c1et5uql o9v6fnle">Bonnie Carr - Retired Certified Public Accountant and Former Controller, Former Vice President and Chief Financial Officer of Hillsborough Community College</div>
<div class="cxmmr5t8 oygrvhab hcukyx3x c1et5uql o9v6fnle">Rick Lott - Formerly Mayor of Plant City</div>
<div class="cxmmr5t8 oygrvhab hcukyx3x c1et5uql o9v6fnle">Ed Narain, MBA, JD - Former State Representative and Active Civic Leader</div>
<div class="cxmmr5t8 oygrvhab hcukyx3x c1et5uql o9v6fnle">Jose Valiente, CPA - Certified Public Accountant and Past Greater Tampa Chamber of Commerce Chair</div></div><div>--- This iCal file does *NOT* confirm registration.Event details subject to change. ---</div><div>--- Tendenci&reg\; Software by <a href="https://www.tendenci.com">tendenci.com</a> - The Open Source AMS for Associations ---</div>
SUMMARY:Hillsborough County Public Schools Citizen Advisory Committee Meeting
PRIORITY:5
CLASS:PUBLIC
BEGIN:VALARM
TRIGGER:-PT30M
ACTION:DISPLAY
DESCRIPTION:Reminder
END:VALARM
END:VEVENT
END:VCALENDAR
