BEGIN:VCALENDAR
PRODID:-//Tendenci - The Open Source AMS for Associations//Tendenci Codebase 12 MIMEDIR//EN
VERSION:2.0
METHOD:PUBLISH
BEGIN:VEVENT
DTSTAMP:20260422T051737Z
ORGANIZER:Moms for Liberty - Isabella County, MI & Faith Community Church
DTSTART:20220412T033000Z
DTEND:20220412T053000Z
LOCATION:Faith Community Church
TRANSP:OPAQUE
SEQUENCE:0
UID:uid501@portal.momsforliberty.org
DESCRIPTION:--- This iCal file does *NOT* confirm registration.\r\nEvent details subject to change. ---\r\nhttps://portal.momsforliberty.org/events/501/\r\n\r\nEvent Title: Whose Children Are They?\r\nStart Date / Time: Apr 11, 2022 23:30 PM US/Eastern\r\nLocation: Faith Community Church\r\nGoogle\r\nhttp://maps.google.com/maps?q=1005+E+Broomfield+St,Mt Pleasant,MI,48858\r\n\r\nForecast\nhttp://www.weather.com/weather/monthly/48858\r\n\r\n\r\n \r\nAdults $11\r\nChildren 12 and under $9--- This iCal file does *NOT* confirm registration.Event details subject to change. ---\r\n\r\n--- By Tendenci - The Open Source AMS for Associations ---\r\n
X-ALT-DESC;FMTTYPE=text/html:<div>--- This iCal file does *NOT* confirm registration.Event details subject to change. ---</div><h1>Event Title: Whose Children Are They?</h1><div>https://portal.momsforliberty.org/events/501/</div><br /><div>When: Apr 11, 2022 23:30 PM US/Eastern</div><br />Faith Community Church<br />1005 E Broomfield St<br />Mt Pleasant, MI 48858<br /><div>http://maps.google.com/maps?q=1005+E+Broomfield+St,Mt Pleasant,MI,48858</div><br /><div>Forecast: http://www.weather.com/weather/monthly/48858</div><br /><br /><div><p></p>
<p>&nbsp\;</p>
<p>Adults $11</p>
<p>Children 12 and under $9</p></div><div>--- This iCal file does *NOT* confirm registration.Event details subject to change. ---</div><div>--- Tendenci&reg\; Software by <a href="https://www.tendenci.com">tendenci.com</a> - The Open Source AMS for Associations ---</div>
SUMMARY:Whose Children Are They?
PRIORITY:5
CLASS:PUBLIC
BEGIN:VALARM
TRIGGER:-PT30M
ACTION:DISPLAY
DESCRIPTION:Reminder
END:VALARM
END:VEVENT
END:VCALENDAR
