BEGIN:VCALENDAR
PRODID:-//Tendenci - The Open Source AMS for Associations//Tendenci Codebase 12 MIMEDIR//EN
VERSION:2.0
METHOD:PUBLISH
BEGIN:VEVENT
DTSTAMP:20260423T114043Z
ORGANIZER:
DTSTART:20220428T033000Z
DTEND:20220428T053000Z
LOCATION:Westminster Senior Center
TRANSP:OPAQUE
SEQUENCE:0
UID:uid504@portal.momsforliberty.org
DESCRIPTION:--- This iCal file does *NOT* confirm registration.\r\nEvent details subject to change. ---\r\nhttps://portal.momsforliberty.org/events/504/\r\n\r\nEvent Title: April Chapter Meeting\r\nStart Date / Time: Apr 27, 2022 23:30 PM America/New_York\r\nLocation: Westminster Senior Center\r\nGoogle\r\nhttp://maps.google.com/maps?q=125+Stoner+Ave,Westminster,MD\r\n\r\nForecast\nhttp://www.weather.com/weather/monthly/\r\n\r\nAfter housekeeping, we will view the film, "Whose Children Are They."\r\nWHOSE CHILDREN ARE THEY? is the groundbreaking and powerfully persuasive documentary featuring brave teachers, empowered parents, and front-line experts who pull back the curtain about what is truly happening in our public schools today.\r\nThis film will be the starting point for a full cultural conversation about the need to return to the original intent of education, not indoctrination. &ldquo\;Whose Children Are They?&rdquo\; will inform and equip parents, teachers, grandparents and concerned citizens, to partner together for the innocence and well-being of our children. It will also educate all education stakeholders on the corrupting influence of teachers&rsquo\; unions, and the vital importance of removing them from our schools, in addition to educating parents on the need to stand with good teachers, and empower teachers to stage a mass Union Exit.--- This iCal file does *NOT* confirm registration.Event details subject to change. ---\r\n\r\n--- By Tendenci - The Open Source AMS for Associations ---\r\n
X-ALT-DESC;FMTTYPE=text/html:<div>--- This iCal file does *NOT* confirm registration.Event details subject to change. ---</div><h1>Event Title: April Chapter Meeting</h1><div>https://portal.momsforliberty.org/events/504/</div><br /><div>When: Apr 27, 2022 23:30 PM America/New_York</div><br />Westminster Senior Center<br />125 Stoner Ave<br />Westminster, MD<br /><div>http://maps.google.com/maps?q=125+Stoner+Ave,Westminster,MD</div><br /><div>Forecast: http://www.weather.com/weather/monthly/</div><br /><br /><div><p>After housekeeping, we will view the film, "Whose Children Are They."</p>
<p><strong>WHOSE CHILDREN ARE THEY?</strong>&nbsp\;is the groundbreaking and powerfully persuasive documentary featuring brave teachers, empowered parents, and front-line experts who pull back the curtain about what is truly happening in our public schools today.</p>
<p>This film will be the starting point for a full cultural conversation about the need to return to the original intent of education, not indoctrination. &ldquo\;Whose Children Are They?&rdquo\; will inform and equip parents, teachers, grandparents and concerned citizens, to partner together for the innocence and well-being of our children. It will also educate all education stakeholders on the corrupting influence of teachers&rsquo\; unions, and the vital importance of removing them from our schools, in addition to educating parents on the need to stand with good teachers, and empower teachers to stage a mass Union Exit.</p></div><div>--- This iCal file does *NOT* confirm registration.Event details subject to change. ---</div><div>--- Tendenci&reg\; Software by <a href="https://www.tendenci.com">tendenci.com</a> - The Open Source AMS for Associations ---</div>
SUMMARY:April Chapter Meeting
PRIORITY:5
CLASS:PUBLIC
BEGIN:VALARM
TRIGGER:-PT30M
ACTION:DISPLAY
DESCRIPTION:Reminder
END:VALARM
END:VEVENT
END:VCALENDAR
