BEGIN:VCALENDAR
PRODID:-//Tendenci - The Open Source AMS for Associations//Tendenci Codebase 12 MIMEDIR//EN
VERSION:2.0
METHOD:PUBLISH
BEGIN:VEVENT
DTSTAMP:20260422T190301Z
ORGANIZER:
DTSTART:20211109T050000Z
DTEND:20211109T070000Z
LOCATION:Jenks Public Schools Education Service Center - Board Room (1st Floor)
TRANSP:OPAQUE
SEQUENCE:0
UID:uid52@portal.momsforliberty.org
DESCRIPTION:--- This iCal file does *NOT* confirm registration.\r\nEvent details subject to change. ---\r\nhttps://portal.momsforliberty.org/events/52/\r\n\r\nEvent Title: Jenks Public Schools Board Meeting\r\nStart Date / Time: Nov 08, 2021 23:00 PM US/Central\r\nLocation: Jenks Public Schools Education Service Center - Board Room (1st Floor)\r\nGoogle\r\nhttp://maps.google.com/maps?q=211+East+A+Street,Jenks,OK,74037\r\n\r\nForecast\nhttp://www.weather.com/weather/monthly/74037\r\n\r\nBoard Meeting--- This iCal file does *NOT* confirm registration.Event details subject to change. ---\r\n\r\n--- By Tendenci - The Open Source AMS for Associations ---\r\n
X-ALT-DESC;FMTTYPE=text/html:<div>--- This iCal file does *NOT* confirm registration.Event details subject to change. ---</div><h1>Event Title: Jenks Public Schools Board Meeting</h1><div>https://portal.momsforliberty.org/events/52/</div><br /><div>When: Nov 08, 2021 23:00 PM US/Central</div><br />Jenks Public Schools Education Service Center - Board Room (1st Floor)<br />211 East A Street<br />Jenks, OK 74037<br /><div>http://maps.google.com/maps?q=211+East+A+Street,Jenks,OK,74037</div><br /><div>Forecast: http://www.weather.com/weather/monthly/74037</div><br /><br /><div><p>Board Meeting</p></div><div>--- This iCal file does *NOT* confirm registration.Event details subject to change. ---</div><div>--- Tendenci&reg\; Software by <a href="https://www.tendenci.com">tendenci.com</a> - The Open Source AMS for Associations ---</div>
SUMMARY:Jenks Public Schools Board Meeting
PRIORITY:5
CLASS:PUBLIC
BEGIN:VALARM
TRIGGER:-PT30M
ACTION:DISPLAY
DESCRIPTION:Reminder
END:VALARM
END:VEVENT
END:VCALENDAR
