BEGIN:VCALENDAR
PRODID:-//Tendenci - The Open Source AMS for Associations//Tendenci Codebase 12 MIMEDIR//EN
VERSION:2.0
METHOD:PUBLISH
BEGIN:VEVENT
DTSTAMP:20260420T034042Z
ORGANIZER:
DTSTART:20220426T040000Z
DTEND:20220426T050000Z
LOCATION:ZOOM TBD
TRANSP:OPAQUE
SEQUENCE:0
UID:uid529@portal.momsforliberty.org
DESCRIPTION:--- This iCal file does *NOT* confirm registration.\r\nEvent details subject to change. ---\r\nhttps://portal.momsforliberty.org/events/529/\r\n\r\nEvent Title: M4L - Monroe County FL Meeting - ZOOM\r\nStart Date / Time: Apr 26, 2022 00:00 AM US/Eastern\r\nLocation: ZOOM TBD\r\n\r\n\r\n\r\n\r\n\r\n\r\n\r\n\r\n\r\n\r\nAPRIL 25th 7pm - Moms For Liberty - Monroe County FL - Keys Liberty - is inviting you to a scheduled Zoom meeting.\r\n\r\n\r\nTopic: M4L Meeting\r\nTime: Apr 25, 2022 07:00 PM Pacific Time (US and Canada)\r\n\r\n\r\nJoin Zoom Meeting\r\nhttps://us05web.zoom.us/j/87491849956...\r\n\r\n\r\nMeeting ID: 874 9184 9956\r\nPasscode: k2XkQ3\r\n\r\n\r\nThis is our first meeting on ZOOM so please bear with us. If you have issues email keysliberty@protonmail.com or reply in the comments here. I will update this page if we have issues.\r\n\r\n\r\n \r\n\r\n\r\n\r\n\r\n\r\nFeel free to send me a private message or email keysliberty@protonmail.com.\r\n\r\n\r\n\r\n\r\n\r\n--- This iCal file does *NOT* confirm registration.Event details subject to change. ---\r\n\r\n--- By Tendenci - The Open Source AMS for Associations ---\r\n
X-ALT-DESC;FMTTYPE=text/html:<div>--- This iCal file does *NOT* confirm registration.Event details subject to change. ---</div><h1>Event Title: M4L - Monroe County FL Meeting - ZOOM</h1><div>https://portal.momsforliberty.org/events/529/</div><br /><div>When: Apr 26, 2022 00:00 AM US/Eastern</div><br /><div><div>
<div class="" dir="auto">
<div id="jsc_c_29y" class="ecm0bbzt hv4rvrfc dati1w0a e5nlhep0" data-ad-comet-preview="message" data-ad-preview="message">
<div class="j83agx80 cbu4d94t ew0dbk1b irj2b8pg">
<div class="qzhwtbm6 knvmm38d">
<div class="" dir="auto">
<div id="jsc_c_2dg" class="ecm0bbzt hv4rvrfc ihqw7lf3 dati1w0a" data-ad-comet-preview="message" data-ad-preview="message">
<div class="j83agx80 cbu4d94t ew0dbk1b irj2b8pg">
<div class="qzhwtbm6 knvmm38d">
<div class="kvgmc6g5 cxmmr5t8 oygrvhab hcukyx3x c1et5uql ii04i59q">
<div dir="auto" style="text-align: start\;">APRIL 25th 7pm - Moms For Liberty - Monroe County FL - Keys Liberty - is inviting you to a scheduled Zoom meeting.</div>
</div>
<div class="cxmmr5t8 oygrvhab hcukyx3x c1et5uql o9v6fnle ii04i59q">
<div dir="auto" style="text-align: start\;">Topic: M4L Meeting</div>
<div dir="auto" style="text-align: start\;">Time: Apr 25, 2022 07:00 PM Pacific Time (US and Canada)</div>
</div>
<div class="cxmmr5t8 oygrvhab hcukyx3x c1et5uql o9v6fnle ii04i59q">
<div dir="auto" style="text-align: start\;">Join Zoom Meeting</div>
<div dir="auto" style="text-align: start\;"><a class="oajrlxb2 g5ia77u1 qu0x051f esr5mh6w e9989ue4 r7d6kgcz rq0escxv nhd2j8a9 nc684nl6 p7hjln8o kvgmc6g5 cxmmr5t8 oygrvhab hcukyx3x jb3vyjys rz4wbd8a qt6c0cv9 a8nywdso i1ao9s8h esuyzwwr f1sip0of lzcic4wl gpro0wi8 py34i1dx" tabindex="0" role="link" href="https://us05web.zoom.us/j/87491849956?pwd=cytGVG9rTktSbHlWSmpBN2YvZDhXUT09&amp\;fbclid=IwAR3alo4hTX-ZOaZu7qzuXm8R9CbTULqrNEGcsPYBTP-NO1Cw2-ls5PjWCa8" target="_blank" rel="nofollow noopener">https://us05web.zoom.us/j/87491849956...</a></div>
</div>
<div class="cxmmr5t8 oygrvhab hcukyx3x c1et5uql o9v6fnle ii04i59q">
<div dir="auto" style="text-align: start\;">Meeting ID: 874 9184 9956</div>
<div dir="auto" style="text-align: start\;">Passcode: k2XkQ3</div>
</div>
<div class="cxmmr5t8 oygrvhab hcukyx3x c1et5uql o9v6fnle ii04i59q">
<div dir="auto" style="text-align: start\;">This is our first meeting on ZOOM so please bear with us. If you have issues email keysliberty@protonmail.com or reply in the comments here. I will update this page if we have issues.</div>
</div>
</div>
<div class="qzhwtbm6 knvmm38d">&nbsp\;</div>
</div>
</div>
</div>
<br />
<div class="cxmmr5t8 oygrvhab hcukyx3x c1et5uql o9v6fnle ii04i59q">
<div dir="auto" style="text-align: start\;">Feel free to send me a private message or email keysliberty@protonmail.com.</div>
</div>
</div>
</div>
</div>
</div>
</div></div><div>--- This iCal file does *NOT* confirm registration.Event details subject to change. ---</div><div>--- Tendenci&reg\; Software by <a href="https://www.tendenci.com">tendenci.com</a> - The Open Source AMS for Associations ---</div>
SUMMARY:M4L - Monroe County FL Meeting - ZOOM
PRIORITY:5
CLASS:PUBLIC
BEGIN:VALARM
TRIGGER:-PT30M
ACTION:DISPLAY
DESCRIPTION:Reminder
END:VALARM
END:VEVENT
END:VCALENDAR
