BEGIN:VCALENDAR
PRODID:-//Tendenci - The Open Source AMS for Associations//Tendenci Codebase 12 MIMEDIR//EN
VERSION:2.0
METHOD:PUBLISH
BEGIN:VEVENT
DTSTAMP:20260422T094431Z
ORGANIZER:M4L Monroe County FL
DTSTART:20220511T020000Z
DTEND:20220511T040000Z
LOCATION:Coral Shores High School Media Center
TRANSP:OPAQUE
SEQUENCE:0
UID:uid596@portal.momsforliberty.org
DESCRIPTION:--- This iCal file does *NOT* confirm registration.\r\nEvent details subject to change. ---\r\nhttps://portal.momsforliberty.org/events/596/\r\n\r\nEvent Title: Monroe County Fl Board of Education Meeting 5/10/22\r\nStart Date / Time: May 10, 2022 22:00 PM US/Eastern\r\nLocation: Coral Shores High School Media Center\r\nGoogle\r\nhttp://maps.google.com/maps?q=89901+Old+Highway,Tavernier,FL,33070\r\n\r\nForecast\nhttp://www.weather.com/weather/monthly/33070\r\n\r\n5/10/2022 5:00 PM Coral Shores High School Media Center 89901 Old Highway Tavernier, FL 33070People who can not attend in person, may call Heather at 305-293-1400.--- This iCal file does *NOT* confirm registration.Event details subject to change. ---\r\n\r\n--- By Tendenci - The Open Source AMS for Associations ---\r\n
X-ALT-DESC;FMTTYPE=text/html:<div>--- This iCal file does *NOT* confirm registration.Event details subject to change. ---</div><h1>Event Title: Monroe County Fl Board of Education Meeting 5/10/22</h1><div>https://portal.momsforliberty.org/events/596/</div><br /><div>When: May 10, 2022 22:00 PM US/Eastern</div><br />Coral Shores High School Media Center<br />89901 Old Highway<br />Tavernier, FL 33070<br /><div>http://maps.google.com/maps?q=89901+Old+Highway,Tavernier,FL,33070</div><br /><div>Forecast: http://www.weather.com/weather/monthly/33070</div><br /><br /><div><p><span class="d2edcug0 hpfvmrgz qv66sw1b c1et5uql lr9zc1uh a8c37x1j fe6kdd0r mau55g9w c8b282yb keod5gw0 nxhoafnm aigsh9s9 d3f4x2em iv3no6db jq4qci2q a3bd9o3v b1v8xokw oo9gr5id hzawbc8m" dir="auto">5/10/2022 5:00 PM Coral Shores High School Media Center 89901 Old Highway Tavernier, FL 33070<br /><br /><span class="d2edcug0 hpfvmrgz qv66sw1b c1et5uql lr9zc1uh a8c37x1j fe6kdd0r mau55g9w c8b282yb keod5gw0 nxhoafnm aigsh9s9 d3f4x2em iv3no6db jq4qci2q a3bd9o3v b1v8xokw oo9gr5id" dir="auto">People who can not attend in person, may call Heather at 305-293-1400.</span><br /></span></p></div><div>--- This iCal file does *NOT* confirm registration.Event details subject to change. ---</div><div>--- Tendenci&reg\; Software by <a href="https://www.tendenci.com">tendenci.com</a> - The Open Source AMS for Associations ---</div>
SUMMARY:Monroe County Fl Board of Education Meeting 5/10/22
PRIORITY:5
CLASS:PUBLIC
BEGIN:VALARM
TRIGGER:-PT30M
ACTION:DISPLAY
DESCRIPTION:Reminder
END:VALARM
END:VEVENT
END:VCALENDAR
