BEGIN:VCALENDAR
PRODID:-//Tendenci - The Open Source AMS for Associations//Tendenci Codebase 12 MIMEDIR//EN
VERSION:2.0
METHOD:PUBLISH
BEGIN:VEVENT
DTSTAMP:20260423T093746Z
ORGANIZER:
DTSTART:20220512T040000Z
DTEND:20220512T053000Z
LOCATION:The Office Bar and Grill
TRANSP:OPAQUE
SEQUENCE:0
UID:uid654@portal.momsforliberty.org
DESCRIPTION:--- This iCal file does *NOT* confirm registration.\r\nEvent details subject to change. ---\r\nhttps://portal.momsforliberty.org/events/654/\r\n\r\nEvent Title: Meet Brent Bien, candidate for Wyoming Governor\r\nStart Date / Time: May 11, 2022 23:00 PM US/Central\r\nLocation: The Office Bar and Grill\r\nGoogle\r\nhttp://maps.google.com/maps?q=1600+E.+Pershing+Blvd+Cheyenne,+WY+82001,Cheyenne,WY,82001\r\n\r\nForecast\nhttp://www.weather.com/weather/monthly/82001\r\n\r\nWe must educate ourselves on the candidates in Wyoming! Here's your chance to come and meet Wyoming Governor Candidate, Brent Bien!--- This iCal file does *NOT* confirm registration.Event details subject to change. ---\r\n\r\n--- By Tendenci - The Open Source AMS for Associations ---\r\n
X-ALT-DESC;FMTTYPE=text/html:<div>--- This iCal file does *NOT* confirm registration.Event details subject to change. ---</div><h1>Event Title: Meet Brent Bien, candidate for Wyoming Governor</h1><div>https://portal.momsforliberty.org/events/654/</div><br /><div>When: May 11, 2022 23:00 PM US/Central</div><br />The Office Bar and Grill<br />1600 E. Pershing Blvd Cheyenne, WY 82001<br />Cheyenne, WY 82001<br /><div>http://maps.google.com/maps?q=1600+E.+Pershing+Blvd+Cheyenne,+WY+82001,Cheyenne,WY,82001</div><br /><div>Forecast: http://www.weather.com/weather/monthly/82001</div><br /><br /><div><p>We must educate ourselves on the candidates in Wyoming! Here's your chance to come and meet Wyoming Governor Candidate, Brent Bien!</p></div><div>--- This iCal file does *NOT* confirm registration.Event details subject to change. ---</div><div>--- Tendenci&reg\; Software by <a href="https://www.tendenci.com">tendenci.com</a> - The Open Source AMS for Associations ---</div>
SUMMARY:Meet Brent Bien, candidate for Wyoming Governor
PRIORITY:5
CLASS:PUBLIC
BEGIN:VALARM
TRIGGER:-PT30M
ACTION:DISPLAY
DESCRIPTION:Reminder
END:VALARM
END:VEVENT
END:VCALENDAR
