BEGIN:VCALENDAR
PRODID:-//Tendenci - The Open Source AMS for Associations//Tendenci Codebase 12 MIMEDIR//EN
VERSION:2.0
METHOD:PUBLISH
BEGIN:VEVENT
DTSTAMP:20260421T122422Z
ORGANIZER:
DTSTART:20220913T043000Z
DTEND:20220913T053000Z
LOCATION:
TRANSP:OPAQUE
SEQUENCE:0
UID:uid684@portal.momsforliberty.org
DESCRIPTION:--- This iCal file does *NOT* confirm registration.\r\nEvent details subject to change. ---\r\nhttps://portal.momsforliberty.org/events/684/\r\n\r\nEvent Title: Moms 4 Liberty Wood County, WI Chapter Meeting\r\nStart Date / Time: Sep 12, 2022 23:30 PM US/Central\r\nLocation: \r\nTo be held at 2nd Street Community Center (Old Marshfield Library)- Main Room --- This iCal file does *NOT* confirm registration.Event details subject to change. ---\r\n\r\n--- By Tendenci - The Open Source AMS for Associations ---\r\n
X-ALT-DESC;FMTTYPE=text/html:<div>--- This iCal file does *NOT* confirm registration.Event details subject to change. ---</div><h1>Event Title: Moms 4 Liberty Wood County, WI Chapter Meeting</h1><div>https://portal.momsforliberty.org/events/684/</div><br /><div>When: Sep 12, 2022 23:30 PM US/Central</div><br /><div><p>To be held at 2nd Street Community Center (Old Marshfield Library)- Main Room&nbsp\;</p></div><div>--- This iCal file does *NOT* confirm registration.Event details subject to change. ---</div><div>--- Tendenci&reg\; Software by <a href="https://www.tendenci.com">tendenci.com</a> - The Open Source AMS for Associations ---</div>
SUMMARY:Moms 4 Liberty Wood County, WI Chapter Meeting
PRIORITY:5
CLASS:PUBLIC
BEGIN:VALARM
TRIGGER:-PT30M
ACTION:DISPLAY
DESCRIPTION:Reminder
END:VALARM
END:VEVENT
END:VCALENDAR
