BEGIN:VCALENDAR
PRODID:-//Tendenci - The Open Source AMS for Associations//Tendenci Codebase 12 MIMEDIR//EN
VERSION:2.0
METHOD:PUBLISH
BEGIN:VEVENT
DTSTAMP:20260419T170655Z
ORGANIZER:
DTSTART:20220608T023000Z
DTEND:20220608T050000Z
LOCATION:
TRANSP:OPAQUE
SEQUENCE:0
UID:uid701@portal.momsforliberty.org
DESCRIPTION:--- This iCal file does *NOT* confirm registration.\r\nEvent details subject to change. ---\r\nhttps://portal.momsforliberty.org/events/701/\r\n\r\nEvent Title: WCPSS Board Meeting\r\nStart Date / Time: Jun 07, 2022 22:30 PM America/New_York\r\nLocation: \r\nGoogle\r\nhttp://maps.google.com/maps?q=5625+Dillard+Drive,Cary,NC,27518\r\n\r\nForecast\nhttp://www.weather.com/weather/monthly/27518\r\n\r\nCome in support of our kids as board policies continue to adversely affect them.\r\n \r\nSunday - After 5:30pm sign up begins for speaking at the school board meeting: https://www.wcpss.net/Page/3727\r\n \r\nTuesday -5:30pm School board meeting starts (WCPSS main office - Dillard Drive)--- This iCal file does *NOT* confirm registration.Event details subject to change. ---\r\n\r\n--- By Tendenci - The Open Source AMS for Associations ---\r\n
X-ALT-DESC;FMTTYPE=text/html:<div>--- This iCal file does *NOT* confirm registration.Event details subject to change. ---</div><h1>Event Title: WCPSS Board Meeting</h1><div>https://portal.momsforliberty.org/events/701/</div><br /><div>When: Jun 07, 2022 22:30 PM America/New_York</div><br /><br />5625 Dillard Drive<br />Cary, NC 27518<br /><div>http://maps.google.com/maps?q=5625+Dillard+Drive,Cary,NC,27518</div><br /><div>Forecast: http://www.weather.com/weather/monthly/27518</div><br /><br /><div><div class="kvgmc6g5 cxmmr5t8 oygrvhab hcukyx3x c1et5uql">Come in support of our kids as board policies continue to adversely affect them.</div>
<div class="kvgmc6g5 cxmmr5t8 oygrvhab hcukyx3x c1et5uql">&nbsp\;</div>
<div class="cxmmr5t8 oygrvhab hcukyx3x c1et5uql o9v6fnle">Sunday - After 5:30pm sign up begins for speaking at the school board meeting:&nbsp\;<a class="oajrlxb2 g5ia77u1 qu0x051f esr5mh6w e9989ue4 r7d6kgcz rq0escxv nhd2j8a9 nc684nl6 p7hjln8o kvgmc6g5 cxmmr5t8 oygrvhab hcukyx3x jb3vyjys rz4wbd8a qt6c0cv9 a8nywdso i1ao9s8h esuyzwwr f1sip0of lzcic4wl gpro0wi8 py34i1dx" tabindex="0" role="link" href="https://www.wcpss.net/Page/3727?fbclid=IwAR0ujVopNvL77akFwCtD08CSfTohueq4fZ-WO49SD4JpsBCktikDpXbwE48" target="_blank" rel="nofollow noopener">https://www.wcpss.net/Page/3727</a></div>
<div class="cxmmr5t8 oygrvhab hcukyx3x c1et5uql o9v6fnle">&nbsp\;</div>
<div class="cxmmr5t8 oygrvhab hcukyx3x c1et5uql o9v6fnle">Tuesday -<br />5:30pm School board meeting starts (WCPSS main office - Dillard Drive)</div></div><div>--- This iCal file does *NOT* confirm registration.Event details subject to change. ---</div><div>--- Tendenci&reg\; Software by <a href="https://www.tendenci.com">tendenci.com</a> - The Open Source AMS for Associations ---</div>
SUMMARY:WCPSS Board Meeting
PRIORITY:5
CLASS:PUBLIC
BEGIN:VALARM
TRIGGER:-PT30M
ACTION:DISPLAY
DESCRIPTION:Reminder
END:VALARM
END:VEVENT
END:VCALENDAR
