BEGIN:VCALENDAR
PRODID:-//Tendenci - The Open Source AMS for Associations//Tendenci Codebase 12 MIMEDIR//EN
VERSION:2.0
METHOD:PUBLISH
BEGIN:VEVENT
DTSTAMP:20260420T222957Z
ORGANIZER:
DTSTART:20220623T033000Z
DTEND:20220623T053000Z
LOCATION:E.W. Beck's
TRANSP:OPAQUE
SEQUENCE:0
UID:uid705@portal.momsforliberty.org
DESCRIPTION:--- This iCal file does *NOT* confirm registration.\r\nEvent details subject to change. ---\r\nhttps://portal.momsforliberty.org/events/705/\r\n\r\nEvent Title: June Chapter Meeting\r\nStart Date / Time: Jun 22, 2022 23:30 PM US/Eastern\r\nLocation: E.W. Beck's\r\nSpeaker: Richard Rothschild\r\nGoogle\r\nhttp://maps.google.com/maps?q=7565+Main+St.,Sykesville,MD,21784\r\n\r\nForecast\nhttp://www.weather.com/weather/monthly/21784\r\n\r\nJoin us for fun and education before we break for summer!--- This iCal file does *NOT* confirm registration.Event details subject to change. ---\r\n\r\n--- By Tendenci - The Open Source AMS for Associations ---\r\n
X-ALT-DESC;FMTTYPE=text/html:<div>--- This iCal file does *NOT* confirm registration.Event details subject to change. ---</div><h1>Event Title: June Chapter Meeting</h1><div>https://portal.momsforliberty.org/events/705/</div><br /><div>When: Jun 22, 2022 23:30 PM US/Eastern</div><div>Speaker: Richard Rothschild</div><br />E.W. Beck's<br />7565 Main St.<br />Sykesville, MD 21784<br /><div>http://maps.google.com/maps?q=7565+Main+St.,Sykesville,MD,21784</div><br /><div>Forecast: http://www.weather.com/weather/monthly/21784</div><br /><br /><div><p>Join us for fun and education before we break for summer!</p></div><div>--- This iCal file does *NOT* confirm registration.Event details subject to change. ---</div><div>--- Tendenci&reg\; Software by <a href="https://www.tendenci.com">tendenci.com</a> - The Open Source AMS for Associations ---</div>
SUMMARY:June Chapter Meeting
PRIORITY:5
CLASS:PUBLIC
BEGIN:VALARM
TRIGGER:-PT30M
ACTION:DISPLAY
DESCRIPTION:Reminder
END:VALARM
END:VEVENT
END:VCALENDAR
