BEGIN:VCALENDAR
PRODID:-//Tendenci - The Open Source AMS for Associations//Tendenci Codebase 12 MIMEDIR//EN
VERSION:2.0
METHOD:PUBLISH
BEGIN:VEVENT
DTSTAMP:20260425T211227Z
ORGANIZER:
DTSTART:20220611T210000Z
DTEND:20220612T020000Z
LOCATION:
TRANSP:OPAQUE
SEQUENCE:0
UID:uid708@portal.momsforliberty.org
DESCRIPTION:--- This iCal file does *NOT* confirm registration.\r\nEvent details subject to change. ---\r\nhttps://portal.momsforliberty.org/events/708/\r\n\r\nEvent Title: Family Picnic Day\r\nStart Date / Time: Jun 11, 2022 17:00 PM US/Eastern\r\nLocation: \r\nJoin us for a fun day Jun 11, 2022 12-5 PM. Meet us at Williamson Town Park, 3773 Eddy Rd, Williamson, NY 14589-9357.\r\nMoms for Liberty Wayne County will provide hamburgs and hot dogs. Please bring a side to pass and your drinks. \r\nWe will have cornhole, ladder golf, giant jenga, a craft for the kids and just a lot of fun. Come and have a casual day to enjoy the outdoors and start the summer season with us! --- This iCal file does *NOT* confirm registration.Event details subject to change. ---\r\n\r\n--- By Tendenci - The Open Source AMS for Associations ---\r\n
X-ALT-DESC;FMTTYPE=text/html:<div>--- This iCal file does *NOT* confirm registration.Event details subject to change. ---</div><h1>Event Title: Family Picnic Day</h1><div>https://portal.momsforliberty.org/events/708/</div><br /><div>When: Jun 11, 2022 17:00 PM US/Eastern</div><br /><div><p>Join us for a fun day Jun 11, 2022 12-5 PM. Meet us at Williamson Town Park, 3773 Eddy Rd, Williamson, NY 14589-9357.</p>
<p>Moms for Liberty Wayne County will provide hamburgs and hot dogs. Please bring a side to pass and your drinks.&nbsp\;</p>
<p>We will have cornhole, ladder golf, giant jenga, a craft for the kids and just a lot of fun. Come and have a casual day to enjoy the outdoors and start the summer season with us!&nbsp\;</p></div><div>--- This iCal file does *NOT* confirm registration.Event details subject to change. ---</div><div>--- Tendenci&reg\; Software by <a href="https://www.tendenci.com">tendenci.com</a> - The Open Source AMS for Associations ---</div>
SUMMARY:Family Picnic Day
PRIORITY:5
CLASS:PUBLIC
BEGIN:VALARM
TRIGGER:-PT30M
ACTION:DISPLAY
DESCRIPTION:Reminder
END:VALARM
END:VEVENT
END:VCALENDAR
