BEGIN:VCALENDAR
PRODID:-//Tendenci - The Open Source AMS for Associations//Tendenci Codebase 12 MIMEDIR//EN
VERSION:2.0
METHOD:PUBLISH
BEGIN:VEVENT
DTSTAMP:20260420T070510Z
ORGANIZER:
DTSTART:20220616T030000Z
DTEND:20220616T050000Z
LOCATION:
TRANSP:OPAQUE
SEQUENCE:0
UID:uid710@portal.momsforliberty.org
DESCRIPTION:--- This iCal file does *NOT* confirm registration.\r\nEvent details subject to change. ---\r\nhttps://portal.momsforliberty.org/events/710/\r\n\r\nEvent Title: June 15 Talbot County Board of Education Meeting\r\nStart Date / Time: Jun 15, 2022 23:00 PM America/New_York\r\nLocation: \r\nGoogle\r\nhttp://maps.google.com/maps?q=12+Magnolia+Street,Easton,MD,21601\r\n\r\nForecast\nhttp://www.weather.com/weather/monthly/21601\r\n\r\nBelow is a link to the agenda for this meeting. Even if you don't speak, we need people to attend. \r\nJune 15th - Regular Session : 6 pm - Talbot County Education Center, Easton. \r\nIf you wish to speak it is highly recommended that you sign up by emailing Ms. Gould at cgould@talbotschools.org\r\n \r\nhttps://talbotschools-md.granicus.com/GeneratedAgendaViewer.php?view_id=1&amp\;event_id=208\r\n --- This iCal file does *NOT* confirm registration.Event details subject to change. ---\r\n\r\n--- By Tendenci - The Open Source AMS for Associations ---\r\n
X-ALT-DESC;FMTTYPE=text/html:<div>--- This iCal file does *NOT* confirm registration.Event details subject to change. ---</div><h1>Event Title: June 15 Talbot County Board of Education Meeting</h1><div>https://portal.momsforliberty.org/events/710/</div><br /><div>When: Jun 15, 2022 23:00 PM America/New_York</div><br /><br />12 Magnolia Street<br />Easton, MD 21601<br /><div>http://maps.google.com/maps?q=12+Magnolia+Street,Easton,MD,21601</div><br /><div>Forecast: http://www.weather.com/weather/monthly/21601</div><br /><br /><div><p>Below is a link to the agenda for this meeting. Even if you don't speak, we need people to attend.&nbsp\;</p>
<p>June 15th - Regular Session : 6 pm - Talbot County Education Center, Easton.&nbsp\;</p>
<p>If you wish to speak it is highly recommended that you sign up by emailing Ms. Gould at <a href="mailto:cgould@talbotschools.org">cgould@talbotschools.org</a></p>
<p>&nbsp\;</p>
<p><a title="Talbot County Board of Ed Agenda for 6/15" href="https://talbotschools-md.granicus.com/GeneratedAgendaViewer.php?view_id=1&amp\;event_id=208">https://talbotschools-md.granicus.com/GeneratedAgendaViewer.php?view_id=1&amp\;event_id=208</a></p>
<p>&nbsp\;</p></div><div>--- This iCal file does *NOT* confirm registration.Event details subject to change. ---</div><div>--- Tendenci&reg\; Software by <a href="https://www.tendenci.com">tendenci.com</a> - The Open Source AMS for Associations ---</div>
SUMMARY:June 15 Talbot County Board of Education Meeting
PRIORITY:5
CLASS:PUBLIC
BEGIN:VALARM
TRIGGER:-PT30M
ACTION:DISPLAY
DESCRIPTION:Reminder
END:VALARM
END:VEVENT
END:VCALENDAR
