BEGIN:VCALENDAR
PRODID:-//Tendenci - The Open Source AMS for Associations//Tendenci Codebase 12 MIMEDIR//EN
VERSION:2.0
METHOD:PUBLISH
BEGIN:VEVENT
DTSTAMP:20260422T050606Z
ORGANIZER:
DTSTART:20220923T020000Z
DTEND:20220923T060000Z
LOCATION:
TRANSP:OPAQUE
SEQUENCE:0
UID:uid728@portal.momsforliberty.org
DESCRIPTION:--- This iCal file does *NOT* confirm registration.\r\nEvent details subject to change. ---\r\nhttps://portal.momsforliberty.org/events/728/\r\n\r\nEvent Title: Harford County, MD Chapter Monthly Meeting\r\nStart Date / Time: Sep 22, 2022 22:00 PM America/New_York\r\nLocation: \r\nGoogle\r\nhttp://maps.google.com/maps?q=2913+Creswell+Rd++Maryland+21015,Bel Air,MD,21015\r\n\r\nForecast\nhttp://www.weather.com/weather/monthly/21015\r\n\r\nOur members-only class with Pew Pew Firearms will serve as our monthly meeting this month. \r\nPreregistration required. Limited spaces available.\r\nStay tuned for more information.\r\n \r\n --- This iCal file does *NOT* confirm registration.Event details subject to change. ---\r\n\r\n--- By Tendenci - The Open Source AMS for Associations ---\r\n
X-ALT-DESC;FMTTYPE=text/html:<div>--- This iCal file does *NOT* confirm registration.Event details subject to change. ---</div><h1>Event Title: Harford County, MD Chapter Monthly Meeting</h1><div>https://portal.momsforliberty.org/events/728/</div><br /><div>When: Sep 22, 2022 22:00 PM America/New_York</div><br /><br />2913 Creswell Rd  Maryland 21015<br />Bel Air, MD 21015<br /><div>http://maps.google.com/maps?q=2913+Creswell+Rd++Maryland+21015,Bel Air,MD,21015</div><br /><div>Forecast: http://www.weather.com/weather/monthly/21015</div><br /><br /><div><p>Our members-only class with Pew Pew Firearms will serve as our monthly meeting this month.&nbsp\;</p>
<p>Preregistration required. Limited spaces available.</p>
<p>Stay tuned for more information.</p>
<p>&nbsp\;</p>
<p>&nbsp\;</p></div><div>--- This iCal file does *NOT* confirm registration.Event details subject to change. ---</div><div>--- Tendenci&reg\; Software by <a href="https://www.tendenci.com">tendenci.com</a> - The Open Source AMS for Associations ---</div>
SUMMARY:Harford County, MD Chapter Monthly Meeting
PRIORITY:5
CLASS:PUBLIC
BEGIN:VALARM
TRIGGER:-PT30M
ACTION:DISPLAY
DESCRIPTION:Reminder
END:VALARM
END:VEVENT
END:VCALENDAR
