BEGIN:VCALENDAR
PRODID:-//Tendenci - The Open Source AMS for Associations//Tendenci Codebase 12 MIMEDIR//EN
VERSION:2.0
METHOD:PUBLISH
BEGIN:VEVENT
DTSTAMP:20260420T080216Z
ORGANIZER:
DTSTART:20220625T193000Z
DTEND:20220626T000000Z
LOCATION:
TRANSP:OPAQUE
SEQUENCE:0
UID:uid731@portal.momsforliberty.org
DESCRIPTION:--- This iCal file does *NOT* confirm registration.\r\nEvent details subject to change. ---\r\nhttps://portal.momsforliberty.org/events/731/\r\n\r\nEvent Title: Support the Mamas for DeSantis\r\nStart Date / Time: Jun 25, 2022 14:30 PM US/Central\r\nLocation: \r\nTo celebrate the new Mamas for DeSantis initiative announced this week, the DeSantis campaign will be doing a Mom&rsquo\;s phone bank specifically for the First Lady this Saturday in Panama City, 9:30am-2pm at the Bay County Republican Party HQ, 1607 Lisenby Ave., Panama City FL.    Come anytime during the day for Voter Contact training and phone banking.  https://mamasfordesantis.comVoter Contact TrainingAnytime between 9:30am -2pmBay County Republican Party HQ1607 Lisenby Ave.Panama City, FLOur First Lady and her husband, Gov DeSantis, will be guest speakers at the Mom's for Liberty Summit next month in Tampa, FL! https://www.momsforliberty.org/casey-desantis/ Past Articles: 2018 - https://floridapolitics.com/archives/279773-shameful-and-wrong-casey-desantis-slams-andrew-gillum-on-school-choice/ 2021 - https://floridaphoenix.com/2021/12/20/ms-desantis-adding-hope-ambassadors-to-promote-student-mental-health/2022 - https://www.fldoe.org/newsroom/latest-news/icymi-first-lady-casey-desantis-announces-the-facts-your-future-digital-media-campaign-to-educate-students-on-the-impacts-of-substance-abuse.stml2022 - Mamas for DeSantis https://www.washingtonexaminer.com/policy/education/florida-first-lady-casey-mamas-for-desantis&ldquo\;I am proud to have Casey by my side, and I am grateful for the example she sets for our three children. And now, I am excited to work alongside her,&rdquo\; Ron DeSantis said. &ldquo\;We are working every day to make Florida the most pro-parent state in the nation, and Mamas for DeSantis gives a voice to mothers across the state.&rdquo\;We need more moms and dads standing up for their kids and their communities. I&rsquo\;m excited to see so much energy around the @RonDeSantisFL education agenda.Education Agendahttps://rondesantis.com/schoolboard/\r\n \r\nSign up here:  https://events.blackthorn.io/5e13hsm7/5a1a8W5Lacp --- This iCal file does *NOT* confirm registration.Event details subject to change. ---\r\n\r\n--- By Tendenci - The Open Source AMS for Associations ---\r\n
X-ALT-DESC;FMTTYPE=text/html:<div>--- This iCal file does *NOT* confirm registration.Event details subject to change. ---</div><h1>Event Title: Support the Mamas for DeSantis</h1><div>https://portal.momsforliberty.org/events/731/</div><br /><div>When: Jun 25, 2022 14:30 PM US/Central</div><br /><div><p>To celebrate the new Mamas for DeSantis initiative announced this week, the DeSantis campaign&nbsp\;will be doing a Mom&rsquo\;s phone bank specifically for the First Lady this Saturday in Panama City, 9:30am-2pm at the Bay County Republican Party HQ, 1607 Lisenby Ave., Panama City FL. &nbsp\; &nbsp\;Come anytime during the day for <strong>Voter Contact training </strong>and phone banking. &nbsp\;<a href="https://momsforliberty.us12.list-manage.com/track/click?u=d3ec92f022f174dbd861f590f&amp\;id=75126cd960&amp\;e=8071225864" target="_blank" rel="noopener" data-saferedirecturl="https://www.google.com/url?q=https://momsforliberty.us12.list-manage.com/track/click?u%3Dd3ec92f022f174dbd861f590f%26id%3D75126cd960%26e%3D8071225864&amp\;source=gmail&amp\;ust=1656180377664000&amp\;usg=AOvVaw26o0ucBZn_gQrtPSkQ2w9u">https://mamasfordesantis.com</a><br /><br /><u>Voter Contact Training</u><br />Anytime between 9:30am -2pm<br />Bay County Republican Party HQ<br />1607 Lisenby Ave.<br />Panama City, FL<br /><br /><br />Our First Lady and her husband, Gov DeSantis,&nbsp\;will be&nbsp\;guest speakers at the Mom's for Liberty Summit next month in Tampa, FL!&nbsp\;<a href="https://momsforliberty.us12.list-manage.com/track/click?u=d3ec92f022f174dbd861f590f&amp\;id=312bc5715f&amp\;e=8071225864" target="_blank" rel="noopener" data-saferedirecturl="https://www.google.com/url?q=https://momsforliberty.us12.list-manage.com/track/click?u%3Dd3ec92f022f174dbd861f590f%26id%3D312bc5715f%26e%3D8071225864&amp\;source=gmail&amp\;ust=1656180377664000&amp\;usg=AOvVaw272TWCHDBk72QNSpLxaKlM">https://www.<wbr />momsforliberty.org/casey-<wbr />desantis/</a>&nbsp\;<br /><br /><strong>Past Articles</strong>:&nbsp\;<br />2018 - <a href="https://momsforliberty.us12.list-manage.com/track/click?u=d3ec92f022f174dbd861f590f&amp\;id=ccf574d7fa&amp\;e=8071225864" target="_blank" rel="noopener" data-saferedirecturl="https://www.google.com/url?q=https://momsforliberty.us12.list-manage.com/track/click?u%3Dd3ec92f022f174dbd861f590f%26id%3Dccf574d7fa%26e%3D8071225864&amp\;source=gmail&amp\;ust=1656180377664000&amp\;usg=AOvVaw3ttDck7AJyaKtf4FwpDo-S">https://floridapolitics.com/<wbr />archives/279773-shameful-and-<wbr />wrong-casey-desantis-slams-<wbr />andrew-gillum-on-school-<wbr />choice/&nbsp\;</a><br />2021 - <a href="https://momsforliberty.us12.list-manage.com/track/click?u=d3ec92f022f174dbd861f590f&amp\;id=f83ced6143&amp\;e=8071225864" target="_blank" rel="noopener" data-saferedirecturl="https://www.google.com/url?q=https://momsforliberty.us12.list-manage.com/track/click?u%3Dd3ec92f022f174dbd861f590f%26id%3Df83ced6143%26e%3D8071225864&amp\;source=gmail&amp\;ust=1656180377664000&amp\;usg=AOvVaw0WBpY5-lsJnx1b19352Shg">https://floridaphoenix.com/<wbr />2021/12/20/ms-desantis-adding-<wbr />hope-ambassadors-to-promote-<wbr />student-mental-health/</a><br />2022 - <a href="https://momsforliberty.us12.list-manage.com/track/click?u=d3ec92f022f174dbd861f590f&amp\;id=8668cad495&amp\;e=8071225864" target="_blank" rel="noopener" data-saferedirecturl="https://www.google.com/url?q=https://momsforliberty.us12.list-manage.com/track/click?u%3Dd3ec92f022f174dbd861f590f%26id%3D8668cad495%26e%3D8071225864&amp\;source=gmail&amp\;ust=1656180377664000&amp\;usg=AOvVaw3odZVtnLsSY1ld2cJAdH-k">https://www.fldoe.org/<wbr />newsroom/latest-news/icymi-<wbr />first-lady-casey-desantis-<wbr />announces-the-facts-your-<wbr />future-digital-media-campaign-<wbr />to-educate-students-on-the-<wbr />impacts-of-substance-abuse.<wbr />stml</a><br /><br /><strong>2022 - Mamas for DeSantis</strong>&nbsp\;<a href="https://momsforliberty.us12.list-manage.com/track/click?u=d3ec92f022f174dbd861f590f&amp\;id=4ba9304911&amp\;e=8071225864" target="_blank" rel="noopener" data-saferedirecturl="https://www.google.com/url?q=https://momsforliberty.us12.list-manage.com/track/click?u%3Dd3ec92f022f174dbd861f590f%26id%3D4ba9304911%26e%3D8071225864&amp\;source=gmail&amp\;ust=1656180377664000&amp\;usg=AOvVaw2Zaia3L1CS_jWNaO9llUKq">https://www.<wbr />washingtonexaminer.com/policy/<wbr />education/florida-first-lady-<wbr />casey-mamas-for-desantis</a><br />&ldquo\;I am proud to have Casey by my side, and I am grateful for the example she sets for our three children. And now, I am excited to work alongside her,&rdquo\; Ron DeSantis said. &ldquo\;We are working every day to make Florida the most pro-parent state in the nation, and Mamas for DeSantis gives a voice to mothers across the state.&rdquo\;<br />We need more moms and dads standing up for their kids and their communities. I&rsquo\;m excited to see so much energy around the&nbsp\;<a href="https://momsforliberty.us12.list-manage.com/track/click?u=d3ec92f022f174dbd861f590f&amp\;id=ef12c29d8c&amp\;e=8071225864" target="_blank" rel="noopener" data-saferedirecturl="https://www.google.com/url?q=https://momsforliberty.us12.list-manage.com/track/click?u%3Dd3ec92f022f174dbd861f590f%26id%3Def12c29d8c%26e%3D8071225864&amp\;source=gmail&amp\;ust=1656180377664000&amp\;usg=AOvVaw1ZmOQVWDPvdd0qySHc0dNw">@RonDeSantisFL</a>&nbsp\;education agenda.<br /><strong>Education Agenda</strong><br /><a href="https://momsforliberty.us12.list-manage.com/track/click?u=d3ec92f022f174dbd861f590f&amp\;id=ee8ac5cd2f&amp\;e=8071225864" target="_blank" rel="noopener" data-saferedirecturl="https://www.google.com/url?q=https://momsforliberty.us12.list-manage.com/track/click?u%3Dd3ec92f022f174dbd861f590f%26id%3Dee8ac5cd2f%26e%3D8071225864&amp\;source=gmail&amp\;ust=1656180377664000&amp\;usg=AOvVaw0Xq_TTqBBEkwP6SmvNBt2Q">https://rondesantis.com/<wbr />schoolboard/</a></p>
<p>&nbsp\;</p>
<p>Sign up here: &nbsp\;<a href="https://events.blackthorn.io/5e13hsm7/5a1a8W5Lacp">https://events.blackthorn.io/5e13hsm7/5a1a8W5Lacp</a>&nbsp\;</p></div><div>--- This iCal file does *NOT* confirm registration.Event details subject to change. ---</div><div>--- Tendenci&reg\; Software by <a href="https://www.tendenci.com">tendenci.com</a> - The Open Source AMS for Associations ---</div>
SUMMARY:Support the Mamas for DeSantis
PRIORITY:5
CLASS:PUBLIC
BEGIN:VALARM
TRIGGER:-PT30M
ACTION:DISPLAY
DESCRIPTION:Reminder
END:VALARM
END:VEVENT
END:VCALENDAR
