BEGIN:VCALENDAR
PRODID:-//Tendenci - The Open Source AMS for Associations//Tendenci Codebase 12 MIMEDIR//EN
VERSION:2.0
METHOD:PUBLISH
BEGIN:VEVENT
DTSTAMP:20260422T234100Z
ORGANIZER:
DTSTART:20220719T030000Z
DTEND:20220719T050000Z
LOCATION:Ooltewah High School
TRANSP:OPAQUE
SEQUENCE:0
UID:uid756@portal.momsforliberty.org
DESCRIPTION:--- This iCal file does *NOT* confirm registration.\r\nEvent details subject to change. ---\r\nhttps://portal.momsforliberty.org/events/756/\r\n\r\nEvent Title: School Board Candidate Forum - Districts 5, 9, 10\r\nStart Date / Time: Jul 18, 2022 23:00 PM US/Eastern\r\nLocation: Ooltewah High School\r\nGoogle\r\nhttp://maps.google.com/maps?q=6123+Mountain+View+Road,Ooltewah,TN\r\n\r\nForecast\nhttp://www.weather.com/weather/monthly/\r\n\r\nJoin us for a Meet &amp\; Greet + Q&amp\;A Session\r\n \r\n*Get to know the candidates*\r\n \r\nThe increased awareness about the vital role of School Board Representatives is exciting and encouraging!\r\nParents have been reaching out to us asking for more information to help them differentiate between the candidates so they can make educated voting decisions.\r\n \r\nTo meet that need, Moms for Liberty has agreed to host candidate forums. We want to give candidates the opportunity to address voters directly and distinguish their position on issues.\r\n \r\nSee you there!--- This iCal file does *NOT* confirm registration.Event details subject to change. ---\r\n\r\n--- By Tendenci - The Open Source AMS for Associations ---\r\n
X-ALT-DESC;FMTTYPE=text/html:<div>--- This iCal file does *NOT* confirm registration.Event details subject to change. ---</div><h1>Event Title: School Board Candidate Forum - Districts 5, 9, 10</h1><div>https://portal.momsforliberty.org/events/756/</div><br /><div>When: Jul 18, 2022 23:00 PM US/Eastern</div><br />Ooltewah High School<br />6123 Mountain View Road<br />Ooltewah, TN<br /><div>http://maps.google.com/maps?q=6123+Mountain+View+Road,Ooltewah,TN</div><br /><div>Forecast: http://www.weather.com/weather/monthly/</div><br /><br /><div><div class="kvgmc6g5 cxmmr5t8 oygrvhab hcukyx3x c1et5uql">Join us for a Meet &amp\; Greet + Q&amp\;A Session</div>
<div class="kvgmc6g5 cxmmr5t8 oygrvhab hcukyx3x c1et5uql">&nbsp\;</div>
<div class="cxmmr5t8 oygrvhab hcukyx3x c1et5uql o9v6fnle">*Get to know the candidates*</div>
<div class="cxmmr5t8 oygrvhab hcukyx3x c1et5uql o9v6fnle">&nbsp\;</div>
<div class="cxmmr5t8 oygrvhab hcukyx3x c1et5uql o9v6fnle">The increased awareness about the vital role of School Board Representatives is exciting and encouraging!</div>
<div class="cxmmr5t8 oygrvhab hcukyx3x c1et5uql o9v6fnle">Parents have been reaching out to us asking for more information to help them differentiate between the candidates so they can make educated voting decisions.</div>
<div class="cxmmr5t8 oygrvhab hcukyx3x c1et5uql o9v6fnle">&nbsp\;</div>
<div class="cxmmr5t8 oygrvhab hcukyx3x c1et5uql o9v6fnle">To meet that need, Moms for Liberty has agreed to host candidate forums. We want to give candidates the opportunity to address voters directly and distinguish their position on issues.</div>
<div class="cxmmr5t8 oygrvhab hcukyx3x c1et5uql o9v6fnle">&nbsp\;</div>
<div class="cxmmr5t8 oygrvhab hcukyx3x c1et5uql o9v6fnle">See you there!</div></div><div>--- This iCal file does *NOT* confirm registration.Event details subject to change. ---</div><div>--- Tendenci&reg\; Software by <a href="https://www.tendenci.com">tendenci.com</a> - The Open Source AMS for Associations ---</div>
SUMMARY:School Board Candidate Forum - Districts 5, 9, 10
PRIORITY:5
CLASS:PUBLIC
BEGIN:VALARM
TRIGGER:-PT30M
ACTION:DISPLAY
DESCRIPTION:Reminder
END:VALARM
END:VEVENT
END:VCALENDAR
