BEGIN:VCALENDAR
PRODID:-//Tendenci - The Open Source AMS for Associations//Tendenci Codebase 12 MIMEDIR//EN
VERSION:2.0
METHOD:PUBLISH
BEGIN:VEVENT
DTSTAMP:20260425T222619Z
ORGANIZER:Terry Larson
DTSTART:20220728T070000Z
DTEND:20220728T080000Z
LOCATION:Rosalia CommUnity Church
TRANSP:OPAQUE
SEQUENCE:0
UID:uid763@portal.momsforliberty.org
DESCRIPTION:--- This iCal file does *NOT* confirm registration.\r\nEvent details subject to change. ---\r\nhttps://portal.momsforliberty.org/events/763/\r\n\r\nEvent Title: Chapter Meeting - Whitman County\r\nStart Date / Time: Jul 28, 2022 00:00 AM US/Pacific\r\nLocation: Rosalia CommUnity Church\r\nWhitman county July 2022 chapter meeting. \r\nOn the agenda:\r\nHow can we support liberty seeking teachers.\r\nWhat are our goals for the 2022-2023 school year.--- This iCal file does *NOT* confirm registration.Event details subject to change. ---\r\n\r\n--- By Tendenci - The Open Source AMS for Associations ---\r\n
X-ALT-DESC;FMTTYPE=text/html:<div>--- This iCal file does *NOT* confirm registration.Event details subject to change. ---</div><h1>Event Title: Chapter Meeting - Whitman County</h1><div>https://portal.momsforliberty.org/events/763/</div><br /><div>When: Jul 28, 2022 00:00 AM US/Pacific</div><br /><div><p>Whitman county July 2022 chapter meeting.&nbsp\;</p>
<p>On the agenda:</p>
<p>How can we support liberty seeking teachers.</p>
<p>What are our goals for the 2022-2023 school year.</p></div><div>--- This iCal file does *NOT* confirm registration.Event details subject to change. ---</div><div>--- Tendenci&reg\; Software by <a href="https://www.tendenci.com">tendenci.com</a> - The Open Source AMS for Associations ---</div>
SUMMARY:Chapter Meeting - Whitman County
PRIORITY:5
CLASS:PUBLIC
BEGIN:VALARM
TRIGGER:-PT30M
ACTION:DISPLAY
DESCRIPTION:Reminder
END:VALARM
END:VEVENT
END:VCALENDAR
