BEGIN:VCALENDAR
PRODID:-//Tendenci - The Open Source AMS for Associations//Tendenci Codebase 12 MIMEDIR//EN
VERSION:2.0
METHOD:PUBLISH
BEGIN:VEVENT
DTSTAMP:20260421T202110Z
ORGANIZER:Moms for Liberty Charleston Coutny
DTSTART:20220916T040000Z
DTEND:20220916T060000Z
LOCATION:Andolini's Pizza
TRANSP:OPAQUE
SEQUENCE:0
UID:uid800@portal.momsforliberty.org
DESCRIPTION:--- This iCal file does *NOT* confirm registration.\r\nEvent details subject to change. ---\r\nhttps://portal.momsforliberty.org/events/800/\r\n\r\nEvent Title: September School Board Candidate Forum  and Meeting\r\nStart Date / Time: Sep 15, 2022 23:00 PM US/Central\r\nLocation: Andolini's Pizza\r\nGoogle\r\nhttp://maps.google.com/maps?q=1940+Sam+Rittenberg+Blvd,Charleston,SC,29407\r\n\r\nForecast\nhttp://www.weather.com/weather/monthly/29407\r\n\r\n \r\nCome meet your school CCSD board candidates!\r\n \r\nDoors open at 6:00 \r\nMeeting and Forum begins at 6:30\r\n \r\nThe cost is $15 per person.  This includes pizza, salad, and non-alcoholic drinks, not a bad deal for dinner and entertainment!!  --- This iCal file does *NOT* confirm registration.Event details subject to change. ---\r\n\r\n--- By Tendenci - The Open Source AMS for Associations ---\r\n
X-ALT-DESC;FMTTYPE=text/html:<div>--- This iCal file does *NOT* confirm registration.Event details subject to change. ---</div><h1>Event Title: September School Board Candidate Forum  and Meeting</h1><div>https://portal.momsforliberty.org/events/800/</div><br /><div>When: Sep 15, 2022 23:00 PM US/Central</div><br />Andolini's Pizza<br />1940 Sam Rittenberg Blvd<br />Charleston, SC 29407<br /><div>http://maps.google.com/maps?q=1940+Sam+Rittenberg+Blvd,Charleston,SC,29407</div><br /><div>Forecast: http://www.weather.com/weather/monthly/29407</div><br /><br /><div><div>&nbsp\;</div>
<div><span style="color: #000000\; font-size: large\;"><strong>Come meet your school CCSD board candidates!</strong></span></div>
<div>&nbsp\;</div>
<div><span style="color: #000000\; font-size: large\;"><strong>Doors open at 6:00&nbsp\;</strong></span></div>
<div><span style="color: #000000\; font-size: large\;"><strong>Meeting and Forum begins at 6:30</strong></span></div>
<div>&nbsp\;</div>
<div><span style="color: #000000\; font-size: large\;"><strong>The&nbsp\;cost is&nbsp\;$15 per person.&nbsp\; This includes&nbsp\;pizza, salad, and non-alcoholic drinks, not a bad deal for dinner and entertainment!!</strong></span><strong>&nbsp\;&nbsp\;</strong></div></div><div>--- This iCal file does *NOT* confirm registration.Event details subject to change. ---</div><div>--- Tendenci&reg\; Software by <a href="https://www.tendenci.com">tendenci.com</a> - The Open Source AMS for Associations ---</div>
SUMMARY:September School Board Candidate Forum  and Meeting
PRIORITY:5
CLASS:PUBLIC
BEGIN:VALARM
TRIGGER:-PT30M
ACTION:DISPLAY
DESCRIPTION:Reminder
END:VALARM
END:VEVENT
END:VCALENDAR
