BEGIN:VCALENDAR
PRODID:-//Tendenci - The Open Source AMS for Associations//Tendenci Codebase 12 MIMEDIR//EN
VERSION:2.0
METHOD:PUBLISH
BEGIN:VEVENT
DTSTAMP:20260423T172914Z
ORGANIZER:
DTSTART:20220811T040000Z
DTEND:20220811T050000Z
LOCATION:Talbot Education Center
TRANSP:OPAQUE
SEQUENCE:0
UID:uid801@portal.momsforliberty.org
DESCRIPTION:--- This iCal file does *NOT* confirm registration.\r\nEvent details subject to change. ---\r\nhttps://portal.momsforliberty.org/events/801/\r\n\r\nEvent Title: Talbot County Board of Education Meeting\r\nStart Date / Time: Aug 11, 2022 00:00 AM America/New_York\r\nLocation: Talbot Education Center\r\nGoogle\r\nhttp://maps.google.com/maps?q=12+Magnolia+Street,Easton,21601\r\n\r\nForecast\nhttp://www.weather.com/weather/monthly/21601\r\n\r\nMoms for Liberty Talbot commits to attending every TCPS Board Meeting. We always appreciate those who volunteer to speak, but one does not have to speak to attend. \r\nMeetings are held at 12 Magnolia Street, Easton, Md. \r\nTime will be announced as will the agenda.\r\nIf you are interested in speaking, please contact Mrs. Gould at cgould@talbotschools.org\r\nThere will be an organizational meeting prior to the Board meeting if needed, to plan strategy and share info. \r\nReminder that we are there to learn, support each other, support our parents and students. \r\n --- This iCal file does *NOT* confirm registration.Event details subject to change. ---\r\n\r\n--- By Tendenci - The Open Source AMS for Associations ---\r\n
X-ALT-DESC;FMTTYPE=text/html:<div>--- This iCal file does *NOT* confirm registration.Event details subject to change. ---</div><h1>Event Title: Talbot County Board of Education Meeting</h1><div>https://portal.momsforliberty.org/events/801/</div><br /><div>When: Aug 11, 2022 00:00 AM America/New_York</div><br />Talbot Education Center<br />12 Magnolia Street<br /> 21601<br /><div>http://maps.google.com/maps?q=12+Magnolia+Street,Easton,21601</div><br /><div>Forecast: http://www.weather.com/weather/monthly/21601</div><br /><br /><div><p>Moms for Liberty Talbot commits to attending every TCPS Board Meeting. We always appreciate those who volunteer to speak, but one does not have to speak to attend.&nbsp\;</p>
<p>Meetings are held at 12 Magnolia Street, Easton, Md.&nbsp\;</p>
<p>Time will be announced as will the agenda.</p>
<p>If you are interested in speaking, please contact Mrs. Gould at <a href="mailto:cgould@talbotschools.org">cgould@talbotschools.org</a></p>
<p>There will be an organizational meeting prior to the Board meeting if needed, to plan strategy and share info.&nbsp\;</p>
<p>Reminder that we are there to learn, support each other, support our parents and students.&nbsp\;</p>
<p>&nbsp\;</p></div><div>--- This iCal file does *NOT* confirm registration.Event details subject to change. ---</div><div>--- Tendenci&reg\; Software by <a href="https://www.tendenci.com">tendenci.com</a> - The Open Source AMS for Associations ---</div>
SUMMARY:Talbot County Board of Education Meeting
PRIORITY:5
CLASS:PUBLIC
BEGIN:VALARM
TRIGGER:-PT30M
ACTION:DISPLAY
DESCRIPTION:Reminder
END:VALARM
END:VEVENT
END:VCALENDAR
