BEGIN:VCALENDAR
PRODID:-//Tendenci - The Open Source AMS for Associations//Tendenci Codebase 12 MIMEDIR//EN
VERSION:2.0
METHOD:PUBLISH
BEGIN:VEVENT
DTSTAMP:20260425T170558Z
ORGANIZER:Regina Brown, Chapter Chair
DTSTART:20220826T030000Z
DTEND:20220826T050000Z
LOCATION:The Venue @ Central Christian Church
TRANSP:OPAQUE
SEQUENCE:0
UID:uid831@portal.momsforliberty.org
DESCRIPTION:--- This iCal file does *NOT* confirm registration.\r\nEvent details subject to change. ---\r\nhttps://portal.momsforliberty.org/events/831/\r\n\r\nEvent Title: It's Time to Launch\r\nStart Date / Time: Aug 25, 2022 23:00 PM US/Eastern\r\nLocation: The Venue @ Central Christian Church\r\nGoogle\r\nhttp://maps.google.com/maps?q=3010+NE+14th+St.,Ocala,FL,34470\r\n\r\nForecast\nhttp://www.weather.com/weather/monthly/34470\r\n\r\n\r\n\r\n\r\n\r\n\r\nAre you sending your kiddo off to school for the first time this year?\r\nMaybe your grandchild, niece or nephew?\r\n \r\n\r\n\r\nWhat to you expect the school to teach them?\r\n \r\nHow do you expect the school to communicate with you?\r\nHow will the school uphold the values you have been teaching your child at home?\r\n \r\n\r\n\r\nThe answers to these questions, and many more, were more or less a given in t he past. But we've learned and seen a lot in the past few years, things that can not be unseen.\r\n \r\n\r\n\r\nJoin us as we launch the Marion County Chapter of Moms for Liberty.\r\n \r\nWe have a plan.\r\n\r\n\r\n\r\n\r\n--- This iCal file does *NOT* confirm registration.Event details subject to change. ---\r\n\r\n--- By Tendenci - The Open Source AMS for Associations ---\r\n
X-ALT-DESC;FMTTYPE=text/html:<div>--- This iCal file does *NOT* confirm registration.Event details subject to change. ---</div><h1>Event Title: It's Time to Launch</h1><div>https://portal.momsforliberty.org/events/831/</div><br /><div>When: Aug 25, 2022 23:00 PM US/Eastern</div><br />The Venue @ Central Christian Church<br />3010 NE 14th St.<br />Ocala, FL 34470<br /><div>http://maps.google.com/maps?q=3010+NE+14th+St.,Ocala,FL,34470</div><br /><div>Forecast: http://www.weather.com/weather/monthly/34470</div><br /><br /><div><div class="" dir="auto">
<div id="jsc_c_8i2" class="ecm0bbzt hv4rvrfc ihqw7lf3 dati1w0a" data-ad-comet-preview="message" data-ad-preview="message">
<div class="j83agx80 cbu4d94t ew0dbk1b irj2b8pg">
<div class="qzhwtbm6 knvmm38d">
<div class="kvgmc6g5 cxmmr5t8 oygrvhab hcukyx3x c1et5uql ii04i59q">
<div dir="auto" style="text-align: left\;"><strong>Are you sending</strong> your kiddo off to school for the first time this year?</div>
<div dir="auto" style="text-align: left\;">Maybe your grandchild, niece or nephew?</div>
<div dir="auto" style="text-align: left\;">&nbsp\;</div>
</div>
<div class="cxmmr5t8 oygrvhab hcukyx3x c1et5uql o9v6fnle ii04i59q" style="text-align: left\;">
<div dir="auto" style="text-align: start\;"><strong>What to you expect</strong> the school to teach them?</div>
<div dir="auto" style="text-align: start\;">&nbsp\;</div>
<div dir="auto" style="text-align: start\;"><strong>How do you expect the</strong> school to communicate with you?</div>
<div dir="auto" style="text-align: start\;"><strong>How will the school uphold</strong> the values you have been teaching your child at home?</div>
<div dir="auto" style="text-align: start\;">&nbsp\;</div>
</div>
<div class="cxmmr5t8 oygrvhab hcukyx3x c1et5uql o9v6fnle ii04i59q" style="text-align: left\;">
<div dir="auto" style="text-align: start\;"><strong>The answers to these questions</strong>, and many more, were more or less a given in t he past. But we've learned and seen a lot in the past few years, things that can not be unseen.</div>
<div dir="auto" style="text-align: start\;">&nbsp\;</div>
</div>
<div class="cxmmr5t8 oygrvhab hcukyx3x c1et5uql o9v6fnle ii04i59q">
<div dir="auto" style="text-align: left\;"><strong>Join us as we launch</strong> the Marion County Chapter of Moms for Liberty.</div>
<div dir="auto" style="text-align: left\;">&nbsp\;</div>
<div dir="auto" style="text-align: left\;"><strong>We have a plan.</strong></div>
</div>
</div>
</div>
</div>
</div></div><div>--- This iCal file does *NOT* confirm registration.Event details subject to change. ---</div><div>--- Tendenci&reg\; Software by <a href="https://www.tendenci.com">tendenci.com</a> - The Open Source AMS for Associations ---</div>
SUMMARY:It's Time to Launch
PRIORITY:5
CLASS:PUBLIC
BEGIN:VALARM
TRIGGER:-PT30M
ACTION:DISPLAY
DESCRIPTION:Reminder
END:VALARM
END:VEVENT
END:VCALENDAR
