BEGIN:VCALENDAR
PRODID:-//Tendenci - The Open Source AMS for Associations//Tendenci Codebase 12 MIMEDIR//EN
VERSION:2.0
METHOD:PUBLISH
BEGIN:VEVENT
DTSTAMP:20260422T051934Z
ORGANIZER:Sandy Hustead
DTSTART:20220826T033000Z
DTEND:20220826T050000Z
LOCATION:Personal Home - Call for details
TRANSP:OPAQUE
SEQUENCE:0
UID:uid834@portal.momsforliberty.org
DESCRIPTION:--- This iCal file does *NOT* confirm registration.\r\nEvent details subject to change. ---\r\nhttps://portal.momsforliberty.org/events/834/\r\n\r\nEvent Title: Madison Meetup\r\nStart Date / Time: Aug 25, 2022 23:30 PM US/Eastern\r\nLocation: Personal Home - Call for details\r\nJoin us Thursday, August 25 as we kick off our Madison Meetup meetings!! For our Republic to survive we must understand the documents on which it was founded. \r\nQuestions? Contact Sandy Hustead at 716-352-0970\r\nWhat is a Madison Meetup?\r\nIt is like a book club for the Constitution! A Madison Meetup is an opportunity to gather together to discuss liberty, freedom and the foundation of our government. Named after the &lsquo\;Father of the Constitution&rsquo\; and a major force behind the Bill of Rights, James Madison, these informal meetings provide the opportunity to read and discuss key documents like the Declaration of Independence, Constitution, and more.\r\nThis is not a highly structured program, it is Americans gathering to talk about what makes our Republic unique. Participants don&rsquo\;t need to know every historical factoid to appreciate the genius of the Founders so Meetup hosts are discussion facilitators rather than instructors.--- This iCal file does *NOT* confirm registration.Event details subject to change. ---\r\n\r\n--- By Tendenci - The Open Source AMS for Associations ---\r\n
X-ALT-DESC;FMTTYPE=text/html:<div>--- This iCal file does *NOT* confirm registration.Event details subject to change. ---</div><h1>Event Title: Madison Meetup</h1><div>https://portal.momsforliberty.org/events/834/</div><br /><div>When: Aug 25, 2022 23:30 PM US/Eastern</div><br /><div><p>Join us Thursday, August 25 as we kick off our Madison Meetup meetings!! For our Republic to survive we must understand the documents on which it was founded.&nbsp\;</p>
<p>Questions? Contact Sandy Hustead at 716-352-0970</p>
<h3>What is a Madison Meetup?</h3>
<p>It is like a book club for the Constitution! A Madison Meetup is an opportunity to gather together to discuss liberty, freedom and the foundation of our government. Named after the &lsquo\;Father of the Constitution&rsquo\; and a major force behind the Bill of Rights, James Madison, these informal meetings provide the opportunity to read and discuss key documents like the Declaration of Independence, Constitution, and more.</p>
<p>This is not a highly structured program, it is Americans gathering to talk about what makes our Republic unique. Participants don&rsquo\;t need to know every historical factoid to appreciate the genius of the Founders so Meetup hosts are discussion facilitators rather than instructors.</p></div><div>--- This iCal file does *NOT* confirm registration.Event details subject to change. ---</div><div>--- Tendenci&reg\; Software by <a href="https://www.tendenci.com">tendenci.com</a> - The Open Source AMS for Associations ---</div>
SUMMARY:Madison Meetup
PRIORITY:5
CLASS:PUBLIC
BEGIN:VALARM
TRIGGER:-PT30M
ACTION:DISPLAY
DESCRIPTION:Reminder
END:VALARM
END:VEVENT
END:VCALENDAR
