BEGIN:VCALENDAR
PRODID:-//Tendenci - The Open Source AMS for Associations//Tendenci Codebase 12 MIMEDIR//EN
VERSION:2.0
METHOD:PUBLISH
BEGIN:VEVENT
DTSTAMP:20260421T192400Z
ORGANIZER:
DTSTART:20221118T050000Z
DTEND:20221118T070000Z
LOCATION:The Optima Foundation
TRANSP:OPAQUE
SEQUENCE:0
UID:uid898@portal.momsforliberty.org
DESCRIPTION:--- This iCal file does *NOT* confirm registration.\r\nEvent details subject to change. ---\r\nhttps://portal.momsforliberty.org/events/898/\r\n\r\nEvent Title: Collier Chapter Monthly Meeting\r\nStart Date / Time: Nov 18, 2022 00:00 AM US/Eastern\r\nLocation: The Optima Foundation\r\nSpeaker: Jennifer Edwards, Supervisor of Elections\r\nGoogle\r\nhttp://maps.google.com/maps?q=2076+Horseshoe+Drive+South,Naples,FL,34104\r\n\r\nForecast\nhttp://www.weather.com/weather/monthly/34104\r\n\r\nJoin us for our monthly meeting! --- This iCal file does *NOT* confirm registration.Event details subject to change. ---\r\n\r\n--- By Tendenci - The Open Source AMS for Associations ---\r\n
X-ALT-DESC;FMTTYPE=text/html:<div>--- This iCal file does *NOT* confirm registration.Event details subject to change. ---</div><h1>Event Title: Collier Chapter Monthly Meeting</h1><div>https://portal.momsforliberty.org/events/898/</div><br /><div>When: Nov 18, 2022 00:00 AM US/Eastern</div><div>Speaker: Jennifer Edwards, Supervisor of Elections</div><br />The Optima Foundation<br />2076 Horseshoe Drive South<br />Naples, FL 34104<br /><div>http://maps.google.com/maps?q=2076+Horseshoe+Drive+South,Naples,FL,34104</div><br /><div>Forecast: http://www.weather.com/weather/monthly/34104</div><br /><br /><div><p>Join us for our monthly meeting!&nbsp\;</p></div><div>--- This iCal file does *NOT* confirm registration.Event details subject to change. ---</div><div>--- Tendenci&reg\; Software by <a href="https://www.tendenci.com">tendenci.com</a> - The Open Source AMS for Associations ---</div>
SUMMARY:Collier Chapter Monthly Meeting
PRIORITY:5
CLASS:PUBLIC
BEGIN:VALARM
TRIGGER:-PT30M
ACTION:DISPLAY
DESCRIPTION:Reminder
END:VALARM
END:VEVENT
END:VCALENDAR
