BEGIN:VCALENDAR
PRODID:-//Tendenci - The Open Source AMS for Associations//Tendenci Codebase 12 MIMEDIR//EN
VERSION:2.0
METHOD:PUBLISH
BEGIN:VEVENT
DTSTAMP:20260423T061902Z
ORGANIZER:Jennifer Wortz
DTSTART:20211104T053000Z
DTEND:20211104T063000Z
LOCATION:Union Church, Quincy, Michigan
TRANSP:OPAQUE
SEQUENCE:0
UID:uid90@portal.momsforliberty.org
DESCRIPTION:--- This iCal file does *NOT* confirm registration.\r\nEvent details subject to change. ---\r\nhttps://portal.momsforliberty.org/events/90/\r\n\r\nEvent Title: Mom's for Liberty Branch County\r\nStart Date / Time: Nov 04, 2021 00:30 AM US/Central\r\nLocation: Union Church, Quincy, Michigan\r\nGoogle\r\nhttp://maps.google.com/maps?q=8+Fulton+St.,Quincy,MI,49082\r\n\r\nForecast\nhttp://www.weather.com/weather/monthly/49082\r\n\r\nJoin us for our first officail Mom's For Liberty Branch (and Hillsdale) County.  --- This iCal file does *NOT* confirm registration.Event details subject to change. ---\r\n\r\n--- By Tendenci - The Open Source AMS for Associations ---\r\n
X-ALT-DESC;FMTTYPE=text/html:<div>--- This iCal file does *NOT* confirm registration.Event details subject to change. ---</div><h1>Event Title: Mom's for Liberty Branch County</h1><div>https://portal.momsforliberty.org/events/90/</div><br /><div>When: Nov 04, 2021 00:30 AM US/Central</div><br />Union Church, Quincy, Michigan<br />8 Fulton St.<br />Quincy, MI 49082<br /><div>http://maps.google.com/maps?q=8+Fulton+St.,Quincy,MI,49082</div><br /><div>Forecast: http://www.weather.com/weather/monthly/49082</div><br /><br /><div><p>Join us for our first officail Mom's For Liberty Branch (and Hillsdale) County.&nbsp\;&nbsp\;</p></div><div>--- This iCal file does *NOT* confirm registration.Event details subject to change. ---</div><div>--- Tendenci&reg\; Software by <a href="https://www.tendenci.com">tendenci.com</a> - The Open Source AMS for Associations ---</div>
SUMMARY:Mom's for Liberty Branch County
PRIORITY:5
CLASS:PUBLIC
BEGIN:VALARM
TRIGGER:-PT30M
ACTION:DISPLAY
DESCRIPTION:Reminder
END:VALARM
END:VEVENT
END:VCALENDAR
