BEGIN:VCALENDAR
PRODID:-//Tendenci - The Open Source AMS for Associations//Tendenci Codebase 12 MIMEDIR//EN
VERSION:2.0
METHOD:PUBLISH
BEGIN:VEVENT
DTSTAMP:20260425T192222Z
ORGANIZER:
DTSTART:20220917T023000Z
DTEND:20220917T040000Z
LOCATION:Joe's Pizzeria
TRANSP:OPAQUE
SEQUENCE:0
UID:uid906@portal.momsforliberty.org
DESCRIPTION:--- This iCal file does *NOT* confirm registration.\r\nEvent details subject to change. ---\r\nhttps://portal.momsforliberty.org/events/906/\r\n\r\nEvent Title: Catholic Vote Fundraiser\r\nStart Date / Time: Sep 16, 2022 22:30 PM US/Eastern\r\nLocation: Joe's Pizzeria\r\nGoogle\r\nhttp://maps.google.com/maps?q=2745+East+Bay+Dr.,Largo,FL,33771\r\n\r\nForecast\nhttp://www.weather.com/weather/monthly/33771\r\n\r\nCatholic Vote is hosting a fundraiser for Dawn Peters and Stephanie Meyer at Joe's Pizza in Largo. See you there!--- This iCal file does *NOT* confirm registration.Event details subject to change. ---\r\n\r\n--- By Tendenci - The Open Source AMS for Associations ---\r\n
X-ALT-DESC;FMTTYPE=text/html:<div>--- This iCal file does *NOT* confirm registration.Event details subject to change. ---</div><h1>Event Title: Catholic Vote Fundraiser</h1><div>https://portal.momsforliberty.org/events/906/</div><br /><div>When: Sep 16, 2022 22:30 PM US/Eastern</div><br />Joe's Pizzeria<br />2745 East Bay Dr.<br />Largo, FL 33771<br /><div>http://maps.google.com/maps?q=2745+East+Bay+Dr.,Largo,FL,33771</div><br /><div>Forecast: http://www.weather.com/weather/monthly/33771</div><br /><br /><div><p>Catholic Vote is hosting a fundraiser for Dawn Peters and Stephanie Meyer at Joe's Pizza in Largo. See you there!</p></div><div>--- This iCal file does *NOT* confirm registration.Event details subject to change. ---</div><div>--- Tendenci&reg\; Software by <a href="https://www.tendenci.com">tendenci.com</a> - The Open Source AMS for Associations ---</div>
SUMMARY:Catholic Vote Fundraiser
PRIORITY:5
CLASS:PUBLIC
BEGIN:VALARM
TRIGGER:-PT30M
ACTION:DISPLAY
DESCRIPTION:Reminder
END:VALARM
END:VEVENT
END:VCALENDAR
