BEGIN:VCALENDAR
PRODID:-//Tendenci - The Open Source AMS for Associations//Tendenci Codebase 12 MIMEDIR//EN
VERSION:2.0
METHOD:PUBLISH
BEGIN:VEVENT
DTSTAMP:20260421T212410Z
ORGANIZER:
DTSTART:20220920T030000Z
DTEND:20220920T060000Z
LOCATION:
TRANSP:OPAQUE
SEQUENCE:0
UID:uid912@portal.momsforliberty.org
DESCRIPTION:--- This iCal file does *NOT* confirm registration.\r\nEvent details subject to change. ---\r\nhttps://portal.momsforliberty.org/events/912/\r\n\r\nEvent Title: LCSD1 School Board Meeting\r\nStart Date / Time: Sep 19, 2022 22:00 PM US/Central\r\nLocation: \r\nGoogle\r\nhttp://maps.google.com/maps?q=2810+House+Ave,Cheyenne,WY\r\n\r\nForecast\nhttp://www.weather.com/weather/monthly/\r\n\r\nRegular school board meeting. 5PM work session and 6PM meeting.--- This iCal file does *NOT* confirm registration.Event details subject to change. ---\r\n\r\n--- By Tendenci - The Open Source AMS for Associations ---\r\n
X-ALT-DESC;FMTTYPE=text/html:<div>--- This iCal file does *NOT* confirm registration.Event details subject to change. ---</div><h1>Event Title: LCSD1 School Board Meeting</h1><div>https://portal.momsforliberty.org/events/912/</div><br /><div>When: Sep 19, 2022 22:00 PM US/Central</div><br /><br />2810 House Ave<br />Cheyenne, WY<br /><div>http://maps.google.com/maps?q=2810+House+Ave,Cheyenne,WY</div><br /><div>Forecast: http://www.weather.com/weather/monthly/</div><br /><br /><div><p>Regular school board meeting. 5PM work session and 6PM meeting.</p></div><div>--- This iCal file does *NOT* confirm registration.Event details subject to change. ---</div><div>--- Tendenci&reg\; Software by <a href="https://www.tendenci.com">tendenci.com</a> - The Open Source AMS for Associations ---</div>
SUMMARY:LCSD1 School Board Meeting
PRIORITY:5
CLASS:PUBLIC
BEGIN:VALARM
TRIGGER:-PT30M
ACTION:DISPLAY
DESCRIPTION:Reminder
END:VALARM
END:VEVENT
END:VCALENDAR
