BEGIN:VCALENDAR
PRODID:-//Tendenci - The Open Source AMS for Associations//Tendenci Codebase 12 MIMEDIR//EN
VERSION:2.0
METHOD:PUBLISH
BEGIN:VEVENT
DTSTAMP:20260421T212253Z
ORGANIZER:
DTSTART:20220920T040000Z
DTEND:20220920T053000Z
LOCATION:Lake George Lodge
TRANSP:OPAQUE
SEQUENCE:0
UID:uid944@portal.momsforliberty.org
DESCRIPTION:--- This iCal file does *NOT* confirm registration.\r\nEvent details subject to change. ---\r\nhttps://portal.momsforliberty.org/events/944/\r\n\r\nEvent Title: M4L Kenosha County Chapter Member Meeting\r\nStart Date / Time: Sep 19, 2022 23:00 PM US/Central\r\nLocation: Lake George Lodge\r\nGoogle\r\nhttp://maps.google.com/maps?q=10433+196th+Ave,Bristol,WI,53104\r\n\r\nForecast\nhttp://www.weather.com/weather/monthly/53104\r\n\r\nMonthly meeting for members. Open to the public. Join us to talk about curriculum opt-out laws and how to do it for your children.--- This iCal file does *NOT* confirm registration.Event details subject to change. ---\r\n\r\n--- By Tendenci - The Open Source AMS for Associations ---\r\n
X-ALT-DESC;FMTTYPE=text/html:<div>--- This iCal file does *NOT* confirm registration.Event details subject to change. ---</div><h1>Event Title: M4L Kenosha County Chapter Member Meeting</h1><div>https://portal.momsforliberty.org/events/944/</div><br /><div>When: Sep 19, 2022 23:00 PM US/Central</div><br />Lake George Lodge<br />10433 196th Ave<br />Bristol, WI 53104<br /><div>http://maps.google.com/maps?q=10433+196th+Ave,Bristol,WI,53104</div><br /><div>Forecast: http://www.weather.com/weather/monthly/53104</div><br /><br /><div><p>Monthly meeting for members. Open to the public. Join us to talk about curriculum opt-out laws and how to do it for your children.</p></div><div>--- This iCal file does *NOT* confirm registration.Event details subject to change. ---</div><div>--- Tendenci&reg\; Software by <a href="https://www.tendenci.com">tendenci.com</a> - The Open Source AMS for Associations ---</div>
SUMMARY:M4L Kenosha County Chapter Member Meeting
PRIORITY:5
CLASS:PUBLIC
BEGIN:VALARM
TRIGGER:-PT30M
ACTION:DISPLAY
DESCRIPTION:Reminder
END:VALARM
END:VEVENT
END:VCALENDAR
