BEGIN:VCALENDAR
PRODID:-//Tendenci - The Open Source AMS for Associations//Tendenci Codebase 12 MIMEDIR//EN
VERSION:2.0
METHOD:PUBLISH
BEGIN:VEVENT
DTSTAMP:20260421T212255Z
ORGANIZER:Moms for Liberty-Stephens County, OK
DTSTART:20221014T050000Z
DTEND:20221014T063000Z
LOCATION:HOPE BAPTIST CHURCH WEST
TRANSP:OPAQUE
SEQUENCE:0
UID:uid961@portal.momsforliberty.org
DESCRIPTION:--- This iCal file does *NOT* confirm registration.\r\nEvent details subject to change. ---\r\nhttps://portal.momsforliberty.org/events/961/\r\n\r\nEvent Title: Oklahoma Joint Study & Findings on Comprehensive Sexual Education\r\nStart Date / Time: Oct 14, 2022 00:00 AM US/Central\r\nLocation: HOPE BAPTIST CHURCH WEST\r\nSpeaker: Danny Williams, Representative of District 28 Oklahoma House of Representatives\r\nGoogle\r\nhttp://maps.google.com/maps?q=380+S.+42nd+Street,Duncan,OK,73533\r\n\r\nForecast\nhttp://www.weather.com/weather/monthly/73533\r\n\r\nGuest speaker Danny Williams, Representative of District 28 Oklahoma House of Representatives will discuss the Oklahoma Legislation joint study on comprehensive sexual education and findings. He will share legislative updates and a Q/A will follow.\r\n --- This iCal file does *NOT* confirm registration.Event details subject to change. ---\r\n\r\n--- By Tendenci - The Open Source AMS for Associations ---\r\n
X-ALT-DESC;FMTTYPE=text/html:<div>--- This iCal file does *NOT* confirm registration.Event details subject to change. ---</div><h1>Event Title: Oklahoma Joint Study & Findings on Comprehensive Sexual Education</h1><div>https://portal.momsforliberty.org/events/961/</div><br /><div>When: Oct 14, 2022 00:00 AM US/Central</div><div>Speaker: Danny Williams, Representative of District 28 Oklahoma House of Representatives</div><br />HOPE BAPTIST CHURCH WEST<br />380 S. 42nd Street<br />Duncan, OK 73533<br /><div>http://maps.google.com/maps?q=380+S.+42nd+Street,Duncan,OK,73533</div><br /><div>Forecast: http://www.weather.com/weather/monthly/73533</div><br /><br /><div><p>Guest speaker Danny Williams, Representative of District 28 Oklahoma House of Representatives will discuss the Oklahoma Legislation joint study on comprehensive sexual education and findings. He will share legislative updates and a Q/A will follow.</p>
<p>&nbsp\;</p></div><div>--- This iCal file does *NOT* confirm registration.Event details subject to change. ---</div><div>--- Tendenci&reg\; Software by <a href="https://www.tendenci.com">tendenci.com</a> - The Open Source AMS for Associations ---</div>
SUMMARY:Oklahoma Joint Study & Findings on Comprehensive Sexual Education
PRIORITY:5
CLASS:PUBLIC
BEGIN:VALARM
TRIGGER:-PT30M
ACTION:DISPLAY
DESCRIPTION:Reminder
END:VALARM
END:VEVENT
END:VCALENDAR
